BEGIN:VCALENDAR
VERSION:2.0
PRODID:-//wp-events-plugin.com//7.2.3.1//EN
TZID:Europe/Berlin
X-WR-TIMEZONE:Europe/Berlin
BEGIN:VEVENT
UID:4816@lilabi.net
DTSTART;TZID=Europe/Berlin:20230925T193000
DTEND;TZID=Europe/Berlin:20230925T210000
DTSTAMP:20230918T130840Z
URL:https://www.lilabi.net/events/roter-tresen-antifaschistischer-filmaben
 d/
SUMMARY:Roter Tresen: Antifaschistischer Filmabend
DESCRIPTION:Film: "Das Obdach"\n\nParis 1940: In der von der Wehrmacht bese
 tzten Stadt nimmt die Hausfrau Luise einen von der Gestapo gesuchten 12-j
 ährigen\, dessen Eltern in Deutschland für das Verteilen von Flugblätte
 rn verhaftet wurden\, bei sich auf. Um den Jungen zu schützen\, muss sie 
 sogar ihren eigenen Ehemann überlisten. Der 1981 in der DDR erschienene F
 ilm basiert auf einer 1941 im Exil geschriebenen Erzählung von Anna Seghe
 rs und zeigt eindrucksvoll\, was Solidarität und Antifaschismus im Extrem
 fall bedeuten. Im Anschluss werden wir nach einem kleinen Input in entspan
 nter Runde gemeinsam über den Film und antifaschistische Kunst im Allgeme
 inen diskutieren.\nDer Filmabend findet Montag\, den 25. September um 19:3
 0 Uhr im Potemkin statt. Wir freuen uns auf euch!
CATEGORIES:Diskussion,Film
LOCATION:Potemkin\, Heeper Str. 28\, Bielefeld\, Deutschland
X-APPLE-STRUCTURED-LOCATION;VALUE=URI;X-ADDRESS=Heeper Str. 28\, Bielefeld\
 , Deutschland;X-APPLE-RADIUS=100;X-TITLE=Potemkin:geo:0,0
END:VEVENT
BEGIN:VTIMEZONE
TZID:Europe/Berlin
X-LIC-LOCATION:Europe/Berlin
BEGIN:DAYLIGHT
DTSTART:20230326T030000
TZOFFSETFROM:+0100
TZOFFSETTO:+0200
TZNAME:CEST
END:DAYLIGHT
END:VTIMEZONE
END:VCALENDAR