BEGIN:VCALENDAR
VERSION:2.0
PRODID:-//wp-events-plugin.com//7.2.3.1//EN
TZID:Europe/Berlin
X-WR-TIMEZONE:Europe/Berlin
BEGIN:VEVENT
UID:1789@lilabi.net
DTSTART;TZID=Europe/Berlin:20190304T200000
DTEND;TZID=Europe/Berlin:20190304T200000
DTSTAMP:20190301T111713Z
URL:https://www.lilabi.net/events/roter-montag-streik-8m/
SUMMARY:Roter Montag Streik 8*M
DESCRIPTION:Am 8.3. ist Frauen*und Queer-Streik in Bielefeld!\n\nPassend da
 zu wollen wir euch am Roten Montag in der Extra Blues Bar einen Film zeige
 n\, um uns gemeinsam einzustimmen und einen entspannten Filmabend zu haben
 .\n\nAlle sind eingeladen!!!\n\nFeminismus ist für alle da\, und was kön
 nte es besseres geben\, als mit einem guten Film zum Thema Streik in die W
 oche zu starten.\n\n"Wenn wir streiken steht die Welt still."\nBündnis Fr
 auen* und Queer-Streik Bielefeld.
CATEGORIES:Film
LOCATION:Extra Blues Bar\, Kreuzstraße 6\, 33602 Bielefeld\, Deutschland
X-APPLE-STRUCTURED-LOCATION;VALUE=URI;X-ADDRESS=Kreuzstraße 6\, 33602 Biel
 efeld\, Deutschland;X-APPLE-RADIUS=100;X-TITLE=Extra Blues Bar:geo:0,0
END:VEVENT
BEGIN:VTIMEZONE
TZID:Europe/Berlin
X-LIC-LOCATION:Europe/Berlin
BEGIN:STANDARD
DTSTART:20181028T020000
TZOFFSETFROM:+0200
TZOFFSETTO:+0100
TZNAME:CET
END:STANDARD
END:VTIMEZONE
END:VCALENDAR