BEGIN:VCALENDAR
VERSION:2.0
PRODID:-//wp-events-plugin.com//7.2.3.1//EN
TZID:Europe/Berlin
X-WR-TIMEZONE:Europe/Berlin
BEGIN:VEVENT
UID:1403@lilabi.net
DTSTART;TZID=Europe/Berlin:20181001T200000
DTEND;TZID=Europe/Berlin:20181001T220000
DTSTAMP:20180829T075016Z
URL:https://www.lilabi.net/events/roter-montag-neue-lager-braucht-das-land
 /
SUMMARY:Roter Montag - Neue Lager braucht das Land?
DESCRIPTION:Neue Lager braucht das Land?\n\nÜber Missstände und die Situa
 tion von Geflüchteten jenseits der "Wilkommenskultur".\n\nEs werden pausc
 hal ganze Länder als sicher definiert. Menschen werden ungeachtet ihrer p
 ersönlichen\, individuellen Fluchtgeschichte nur unter dem Aspekt des Her
 kunftslandes sortiert. Gesellschaftliche Teilhabe\, Integrationsmöglichke
 iten\, Zugang zu Schule und Bildung - steht nur denen zur Verfügung\, die
  die vorherige Selektion überstanden haben.\n\nBetroffene sagen\, das ist
  ein Lager - das ist nicht Deutschland.\n\nDer Vortrag bietet einen Einbli
 ck in eine "Schwerpunkteinrichtung Westbalkan"\, er zeigt auf wie struktur
 elle Diskriminierung\, finanzielle Interessen und eine politisch gewollte 
 Außendarstellung ineinander greifen und was das für Betroffene bedeutet.
 \n\nIn der anschließenden Diskussion soll es um Ideenentwicklung gehen\, 
 welche Aufgabe der Einzelne und eine Gesellschaft im Umgang mit Schutzsuch
 enden haben und wie Demokratie auch bei diesen Menschen effektiv gelebt we
 rden kann.
ATTACH;FMTTYPE=image/jpeg:https://www.lilabi.net/wp-content/uploads/2018/0
 8/39012519_1888521094572860_7803577499450867712_n.jpg
CATEGORIES:Diskussion,Vortrag
LOCATION:\, \, 
X-APPLE-STRUCTURED-LOCATION;VALUE=URI;X-ADDRESS=\, ;X-APPLE-RADIUS=100;X-TI
 TLE=:geo:0,0
END:VEVENT
BEGIN:VTIMEZONE
TZID:Europe/Berlin
X-LIC-LOCATION:Europe/Berlin
BEGIN:DAYLIGHT
DTSTART:20180325T030000
TZOFFSETFROM:+0100
TZOFFSETTO:+0200
TZNAME:CEST
END:DAYLIGHT
END:VTIMEZONE
END:VCALENDAR