BEGIN:VCALENDAR
VERSION:2.0
PRODID:-//wp-events-plugin.com//7.2.3.1//EN
TZID:Europe/Berlin
X-WR-TIMEZONE:Europe/Berlin
BEGIN:VEVENT
UID:6510@lilabi.net
DTSTART;TZID=Europe/Berlin:20251201T200000
DTEND;TZID=Europe/Berlin:20251201T230000
DTSTAMP:20251128T234923Z
URL:https://www.lilabi.net/events/roter-montag-jahresabschlussfest-mit-lie
 dern-der-bewegung/
SUMMARY:Roter Montag: Jahresabschlussfest (mit Liedern der Bewegung)
DESCRIPTION:Am 01.12. steht wieder das legendäre Arbeiter*innenliedersinge
 n beim Roten Montag an. Bei kleinen Snacks\, Getränken eurer Wahl\, tolle
 r Musik und guter Laune wollen wir das Jahr wie immer gemeinsam ausklingen
  lassen.\nLos geht's um 20 Uhr in der Extra Blues Bar.\nKommt alle vorbei 
 und singt mit!
ATTACH;FMTTYPE=image/jpeg:https://www.lilabi.net/wp-content/uploads/2025/1
 1/liederderbewegung1312.jpg
CATEGORIES:Kneipe,Konzert,Musik,Tanz
LOCATION:Extra Blues Bar\, Siekerstraße 20\, Bielefeld\, Deutschland
X-APPLE-STRUCTURED-LOCATION;VALUE=URI;X-ADDRESS=Siekerstraße 20\, Bielefel
 d\, Deutschland;X-APPLE-RADIUS=100;X-TITLE=Extra Blues Bar:geo:0,0
END:VEVENT
BEGIN:VTIMEZONE
TZID:Europe/Berlin
X-LIC-LOCATION:Europe/Berlin
BEGIN:STANDARD
DTSTART:20251026T020000
TZOFFSETFROM:+0200
TZOFFSETTO:+0100
TZNAME:CET
END:STANDARD
END:VTIMEZONE
END:VCALENDAR