BEGIN:VCALENDAR
VERSION:2.0
PRODID:-//wp-events-plugin.com//7.2.3.1//EN
TZID:Europe/Berlin
X-WR-TIMEZONE:Europe/Berlin
BEGIN:VEVENT
UID:4425@lilabi.net
DTSTART;TZID=Europe/Berlin:20221003T200000
DTEND;TZID=Europe/Berlin:20221003T223000
DTSTAMP:20220927T124337Z
URL:https://www.lilabi.net/events/roter-montag-feministisches-kneipenquiz/
SUMMARY:Roter Montag: Feministisches Kneipenquiz
DESCRIPTION:Kennenlernen mit Limo\, Bier und Quiz\n\nFür den Roten Montag 
 am 3.10. lädt das feministische Quizkollektiv zu einem\n\na. witzigen\nb.
  informativen\nc. spannenden\nd. viel zu anspruchsvollen\n\nAbend mit Knei
 penquiz in die Extra Blues Bar ein.\n(Mehrer Antworten können richtig sei
 n.)\n\nKommt gerne mit Leuten oder tut euch vor Ort zusammen. Vorwissen br
 aucht ihr keins\, aber Glück kann nicht schaden!
LOCATION:Extra Blues Bar\, Siekerstraße 20\, Bielefeld\, Deutschland
X-APPLE-STRUCTURED-LOCATION;VALUE=URI;X-ADDRESS=Siekerstraße 20\, Bielefel
 d\, Deutschland;X-APPLE-RADIUS=100;X-TITLE=Extra Blues Bar:geo:0,0
END:VEVENT
BEGIN:VTIMEZONE
TZID:Europe/Berlin
X-LIC-LOCATION:Europe/Berlin
BEGIN:DAYLIGHT
DTSTART:20220327T030000
TZOFFSETFROM:+0100
TZOFFSETTO:+0200
TZNAME:CEST
END:DAYLIGHT
END:VTIMEZONE
END:VCALENDAR