BEGIN:VCALENDAR
VERSION:2.0
PRODID:-//wp-events-plugin.com//7.2.3.1//EN
TZID:Europe/Berlin
X-WR-TIMEZONE:Europe/Berlin
BEGIN:VEVENT
UID:6405@lilabi.net
DTSTART;TZID=Europe/Berlin:20251006T200000
DTEND;TZID=Europe/Berlin:20251006T220000
DTSTAMP:20250929T095624Z
URL:https://www.lilabi.net/events/roter-montag-alles-fuer-alle-revolution-
 als-commonisierung/
SUMMARY:Roter Montag: Alles für Alle. Revolution als Commonisierung
DESCRIPTION:Jonna Klick und Indigo Drau lesen beim Roten Montag aus ihrem B
 uch Alles für Alle - Revolution als Commonisierung\nDie sich zuspitzende 
 Klimakrise macht es deutlich wie noch nie: Wir müssen die Notbremse ziehe
 n. Wir müssen raus aus dem Kapitalismus! — So die Autorinnen. Doch je k
 larer diese Erkenntnis\, desto auswegloser erscheint unsere Situation. Den
 n bisherige Wege\, den Kapitalismus über den Staat zu bändigen oder zu 
 überwinden\, sind gescheitert. Deshalb sucht dieses Buch nach neuen Wegen
  in eine solidarische Gesellschaft. Bei Commons\, in denen bereits heute s
 elbstorganisiert jenseits von Markt und Staat Bedürfnisse verhandelt und 
 befriedigt werden. Bei sozialen Bewegungen\, die das Bestehende in Frage s
 tellen und solidarische Beziehungen aufbauen. Und bei alltäglichen Kämpf
 en in Betrieben\, Stadtteilen und Küchen\, in denen Menschen sich dagegen
  auflehnen\, dass ihr Leben von Kapital und Patriarchat bestimmt wird. Doc
 h oft zerschellen diese Ansätze an der Totalität des Kapitalismus\, in d
 em nicht alles für alle gilt\, sondern alle für die Kapitalakkumulation.
  Was bedeutet es also\, Revolution nicht als Eroberung der Macht\, sondern
  als Commonisierung der Welt zu begreifen.\nKommt vorbei und diskutiert mi
 t! Wir freuen uns auf euch :)
CATEGORIES:Lesung
LOCATION:Extra Blues Bar\, Siekerstraße 20\, Bielefeld\, Deutschland
X-APPLE-STRUCTURED-LOCATION;VALUE=URI;X-ADDRESS=Siekerstraße 20\, Bielefel
 d\, Deutschland;X-APPLE-RADIUS=100;X-TITLE=Extra Blues Bar:geo:0,0
END:VEVENT
BEGIN:VTIMEZONE
TZID:Europe/Berlin
X-LIC-LOCATION:Europe/Berlin
BEGIN:DAYLIGHT
DTSTART:20250330T030000
TZOFFSETFROM:+0100
TZOFFSETTO:+0200
TZNAME:CEST
END:DAYLIGHT
END:VTIMEZONE
END:VCALENDAR