BEGIN:VCALENDAR
VERSION:2.0
PRODID:-//wp-events-plugin.com//7.2.3.1//EN
TZID:Europe/Berlin
X-WR-TIMEZONE:Europe/Berlin
BEGIN:VEVENT
UID:4390@lilabi.net
DTSTART;TZID=Europe/Berlin:20220905T200000
DTEND;TZID=Europe/Berlin:20220905T220000
DTSTAMP:20220830T101459Z
URL:https://www.lilabi.net/events/romo-klassismuskritik-eines-identitaetsp
 olitischen-konzepts/
SUMMARY:RoMo: Klassismus\,Kritik eines Identitätspolitischen Konzepts
DESCRIPTION:In einer Welt der klaren Identitäten\, egal ob zugeschrieben o
 der selbst gewählt\, lässt sich scheinbar alles über Diskriminierung er
 klären. Statt einer Gesellschaftskritik\, die zumindest versucht die herr
 schende Ordnung zu begreifen und sie somit auch überwinden zu können\, w
 ird nur noch versucht ein möglichst genaues Abbild der Realität zu entwe
 rfen. Aktuell scheint sich das Konzept des Klassismus\, also der Abwertung
  aufgrund von Klassenzugehörigkeit\, zu etablieren. Ausgehend von dem sch
 on 2009 erschienenen Buch „Klassismus – Eine Einführung“\, einem St
 andardwerk\, soll aufgezeigt werden welche Blüten die Identitätspolitik 
 getrieben hat.\n\n- ein Vortrag mit Diskursiv Aachen
CATEGORIES:Vortrag
LOCATION:Extra Blues Bar\, Kreuzstraße 6\, 33602 Bielefeld\, Deutschland
X-APPLE-STRUCTURED-LOCATION;VALUE=URI;X-ADDRESS=Kreuzstraße 6\, 33602 Biel
 efeld\, Deutschland;X-APPLE-RADIUS=100;X-TITLE=Extra Blues Bar:geo:0,0
END:VEVENT
BEGIN:VTIMEZONE
TZID:Europe/Berlin
X-LIC-LOCATION:Europe/Berlin
BEGIN:DAYLIGHT
DTSTART:20220327T030000
TZOFFSETFROM:+0100
TZOFFSETTO:+0200
TZNAME:CEST
END:DAYLIGHT
END:VTIMEZONE
END:VCALENDAR