BEGIN:VCALENDAR
VERSION:2.0
PRODID:-//wp-events-plugin.com//7.2.3.1//EN
TZID:Europe/Berlin
X-WR-TIMEZONE:Europe/Berlin
BEGIN:VEVENT
UID:4727@lilabi.net
DTSTART;TZID=Europe/Berlin:20230501T103000
DTEND;TZID=Europe/Berlin:20230501T111500
DTSTAMP:20230427T142837Z
URL:https://www.lilabi.net/events/revolutionaerer-jugendblock/
SUMMARY:Revolutionärer Jugendblock
DESCRIPTION:Wir wollen eine Zukunft! Heraus zum 1. Mai!\n\nReiht euch ein i
 n den revolutionären Jugendblock\, den verschiedene linke Jugendorganisat
 ionen aus Bielefeld bilden. Danach wird es noch ein Fest im Ravensberger P
 ark geben.
CATEGORIES:Demo
LOCATION:DGB Rechtsschutz GmbH\, Marktstraße 8\, Bielefeld\, NRW\, 33602\,
  Deutschland
X-APPLE-STRUCTURED-LOCATION;VALUE=URI;X-ADDRESS=Marktstraße 8\, Bielefeld\
 , NRW\, 33602\, Deutschland;X-APPLE-RADIUS=100;X-TITLE=DGB Rechtsschutz Gm
 bH:geo:0,0
END:VEVENT
BEGIN:VTIMEZONE
TZID:Europe/Berlin
X-LIC-LOCATION:Europe/Berlin
BEGIN:DAYLIGHT
DTSTART:20230326T030000
TZOFFSETFROM:+0100
TZOFFSETTO:+0200
TZNAME:CEST
END:DAYLIGHT
END:VTIMEZONE
END:VCALENDAR