BEGIN:VCALENDAR
VERSION:2.0
PRODID:-//wp-events-plugin.com//7.2.3.1//EN
TZID:Europe/Berlin
X-WR-TIMEZONE:Europe/Berlin
BEGIN:VEVENT
UID:1922@lilabi.net
DTSTART;TZID=Europe/Berlin:20190612T190000
DTEND;TZID=Europe/Berlin:20190612T210000
DTSTAMP:20190404T125505Z
URL:https://www.lilabi.net/events/reichsbuerger-die-unterschaetzte-gefahr/
SUMMARY:Reichsbürger. Die unterschätzte Gefahr
DESCRIPTION:Sie rufen Regierungen aus\, gründen Staaten und Königreiche. 
 In der Bundesrepublik sind seit Jahrzehnten Reichsbürger aktiv\, lehnen S
 taat und Grundgesetzt ab. Bei Behörden wehren sie sich gegen Gebühren\, 
 mit Verwaltungen führen sie Verfahrensstreite. Lange galten sie als "Spin
 ner" oder "Papierterroristen". Ihr extrem-rechte Ressentiments und ihre mi
 litanter Habitus wurde relativiert bis ignorier. Die verharmlosende Einsch
 ätzung in der Politik\, den Sicherheitsbehörden und den Medien änderte 
 erst ein tragischer Vorfall. Am 19. Oktober 2016 erschoss eine Reichsbeweg
 ter aus Bayern einen Polizeibeamten und verletzte weitere Beamte. Sie soll
 ten ihm seine legalen Waffen entziehen. Seit dem Tag\, betrachtet die Inne
 nminister sowie Polizei und Behörden diese über 18.000 Reichsideebewegte
 n anders.\n\nDer Rechtsextremismus-Experte Andreas Speit beleuchte die äu
 ßerst heterogenen Szene\, stellt ihre Akteure und ihre Ideologie vor. Nic
 ht ohne politische Differenzen aber auch verbindende Elemente zu benennen.
 \n\nAndreas Speit\, *03.12.1966. Diplom Sozialökonom\, Journalist und Aut
 or\, schreibt regelmäßig für die taz (tageszeitung). Seit 2005 Autor de
 r Kolumne "Der Rechte Rand" in der taz-nord\, für die er 2012 mit dem Jou
 rnalisten-Sonderpreis Ton Angeben. Rechtsextremismus im Spiegel der Medien
  ausgezeichnet wurde. Mehrere Bücher zur Thematik Alter und Neuer Rechten
  veröffentlicht u.a. mit Andrea Röpke "Mädelsache" (Freiburg am Breisga
 u 2015\, vierte aktualisierte Auflage)\, alleine verfasst: "Bürgerliche S
 charfmacher – Deutschlands neue rechte Mitte – von AfD bis Pegida" (Z
 ürich\, 2016) und herausgebend "Reichsbürger – Die unterschätze Gefah
 r" (Berlin\, 2017) und "Das Netzwerk der Identitären – Ideologien und A
 ktionen der Neuen Rechten" (Berlin\, 2018)\n\nVeranstalter*in: Arbeit und 
 Leben im Kreis Herford DGB/ VHS\, Fachstelle NRWeltoffen\, VHS Löhne\n\nD
 ie Veranstaltung findet im Rahmen der Aktionswochen gegen Rassismus im Kre
 is Herford statt.
CATEGORIES:Vortrag
LOCATION:VHS Löhne - Werretalhalle\, Alte Bünder Straße 14\, Löhne\, NR
 W\, Deutschland
X-APPLE-STRUCTURED-LOCATION;VALUE=URI;X-ADDRESS=Alte Bünder Straße 14\, L
 öhne\, NRW\, Deutschland;X-APPLE-RADIUS=100;X-TITLE=VHS Löhne - Werretal
 halle:geo:0,0
END:VEVENT
BEGIN:VTIMEZONE
TZID:Europe/Berlin
X-LIC-LOCATION:Europe/Berlin
BEGIN:DAYLIGHT
DTSTART:20190331T030000
TZOFFSETFROM:+0100
TZOFFSETTO:+0200
TZNAME:CEST
END:DAYLIGHT
END:VTIMEZONE
END:VCALENDAR