BEGIN:VCALENDAR
VERSION:2.0
PRODID:-//wp-events-plugin.com//7.2.3.1//EN
TZID:Europe/Berlin
X-WR-TIMEZONE:Europe/Berlin
BEGIN:VEVENT
UID:4459@lilabi.net
DTSTART;TZID=Europe/Berlin:20221128T163000
DTEND;TZID=Europe/Berlin:20221128T180000
DTSTAMP:20221113T161526Z
URL:https://www.lilabi.net/events/rapunzelzeiten-lesung-der-herforder-auto
 rinnen-gruppe-in-der-buergerwache-bielefeld/
SUMMARY:„Rapunzelzeiten“ - Lesung der Herforder Autor*innen-Gruppe in d
 er Bürgerwache Bielefeld
DESCRIPTION:Mit dem französischen Schriftsteller und Literaturwissenschaft
 ler André Maurois kann gesagt werden\, dass Kunst - und somit auch Litera
 tur - das Bemühen sei\, neben der wirklichen Welt eine menschlichere zu s
 chaffen. Ausgehend von diesem Gedanken gestaltet die Herforder Autor*innen
 -Gruppe seit 2017 literarische Lesungen\, die sich nicht nur am ‚Schöne
 n und Guten’\, sondern auch an der sozialen Wirklichkeit orientieren und
  diese kritisch aufgreifen.\n\nEs geht um den Alltag\, die Arbeitswelt\, d
 ie Vergangenheit und überhaupt um jenes Spektrum an Gewohnheiten\, das wi
 r mit allen Begrenzungen so ungemein wohlwollend „Ich“ nennen. Das Leb
 en besteht eigentlich aus „Rapunzelzeiten“\, und so nimmt es nicht wun
 der\, dass unter diesem Titel die nunmehr zweite Anthologie der Autor*inne
 n erschienen ist als ein Potpourri der stilleren Sorte\, der ruhigen Töne
 \, durchbrochen von Satire und einer bildhaften Poesie\, die in Augenblick
 en nach Perspektiven sucht.\n\nAus dieser im Ostbooks-Verlag erschienenen 
 Anthologie lesen die Autor*innen Auszüge\, aber auch aus ihren anderen Ar
 beiten. Mit dabei ist Norbert Sahrhage\, der bei seinen Kriminalromanen lo
 kal-historische Begebenheiten mit kriminalistischer Erzählkunst verbindet
 . Ebenfalls dabei ist Michael Helm\, der mit dem Bürgermedienpreis NRW au
 sgezeichnet wurde. Artur Rosenstern\, Autor und Verleger\, schreibt feinsi
 nnige Lyrik nicht nur über das „Rückwärtsgehen“. Aus Berlin reist C
 hristine Zeides an\, ein Multitalent in Sachen Wortkunst und Performance. 
 Die Bielefelder Lyrikerin und Romanautorin Petra Czernitzki überschreibt 
 den Alltag mit Satire\, und der in Bielefeld aufgewachsene Autor Ralf Burn
 icki liest politische Gedichte gegen kalte Zeiten. Die Zuhörer*innen erwa
 rtet ein kreatives und vielseitiges Literaturereignis\, das zum Nachdenken
  anregt\, aber auch unterhaltsam ist.\n\nDer Eintritt ist frei (Spende erb
 eten).\n\nWann: am Samstag\, den 26.11.2022 \n\nBeginn: 16.30 Uhr\n\nOrt: 
 Bürgerwache\, Rolandstr. 16\, 33615 Bielefeld
ATTACH;FMTTYPE=image/jpeg:https://www.lilabi.net/wp-content/uploads/2022/1
 1/Rapunzelzeiten_Rechteck-2.jpg
CATEGORIES:Lesung
LOCATION:Bielefeld\, Bürgerwache am Siegfriedplatz\, Siegfriedplatz\, Rola
 ndstraße\, Bielefeld\, NRW\, 33615\, Deutschland
X-APPLE-STRUCTURED-LOCATION;VALUE=URI;X-ADDRESS=Siegfriedplatz\, Rolandstra
 ße\, Bielefeld\, NRW\, 33615\, Deutschland;X-APPLE-RADIUS=100;X-TITLE=Bie
 lefeld\, Bürgerwache am Siegfriedplatz:geo:0,0
END:VEVENT
BEGIN:VTIMEZONE
TZID:Europe/Berlin
X-LIC-LOCATION:Europe/Berlin
BEGIN:STANDARD
DTSTART:20221030T020000
TZOFFSETFROM:+0200
TZOFFSETTO:+0100
TZNAME:CET
END:STANDARD
END:VTIMEZONE
END:VCALENDAR