BEGIN:VCALENDAR
VERSION:2.0
PRODID:-//wp-events-plugin.com//7.2.3.1//EN
TZID:Europe/Berlin
X-WR-TIMEZONE:Europe/Berlin
BEGIN:VEVENT
UID:6409@lilabi.net
DTSTART;TZID=Europe/Berlin:20251024T200000
DTEND;TZID=Europe/Berlin:20260424T234500
DTSTAMP:20251013T125330Z
URL:https://www.lilabi.net/events/queere-kneipe/
SUMMARY:QUEERE KNEIPE
DESCRIPTION:Du bist queer und hast bock auf Kneipe? Dann komm zur Queeren K
 neipe!\n\nEs gibt lecker Essen (gegen Spende) und Getränke mit und ohne A
 lkohol.\n\nEgal\, ob du mitmachen*\, neue Leute kennenlernen oder einfach 
 rumhängen willst - komm einfach vorbei! Der erste Termin ist am 24.10. un
 d dann findet die Kneipe regelmäßig am 4. Freitag im Monat statt.\n\n&nb
 sp\;\n\nOpening Specials am 24.10.: GLITZER\, APEROL &amp\; KERZENSCHEIN!\
 n\n&nbsp\;\n\n*wenn du Lust hast dich einzubringen in der Orga oder in den
  Schichten\, dann sprich einfach jemanden hinter der Theke oder an der Tü
 r an.
ATTACH;FMTTYPE=image/jpeg:https://www.lilabi.net/wp-content/uploads/2025/1
 0/2.jpg
CATEGORIES:Austausch/Vernetzung,Kneipe,Küfa
LOCATION:AJZ Bielefeld\, Heeper Str. 132\, 33607 Bielefeld\, Deutschland
X-APPLE-STRUCTURED-LOCATION;VALUE=URI;X-ADDRESS=Heeper Str. 132\, 33607 Bie
 lefeld\, Deutschland;X-APPLE-RADIUS=100;X-TITLE=AJZ Bielefeld:geo:0,0
END:VEVENT
BEGIN:VTIMEZONE
TZID:Europe/Berlin
X-LIC-LOCATION:Europe/Berlin
BEGIN:DAYLIGHT
DTSTART:20250330T030000
TZOFFSETFROM:+0100
TZOFFSETTO:+0200
TZNAME:CEST
END:DAYLIGHT
BEGIN:STANDARD
DTSTART:20251026T020000
TZOFFSETFROM:+0200
TZOFFSETTO:+0100
TZNAME:CET
END:STANDARD
BEGIN:DAYLIGHT
DTSTART:20260329T030000
TZOFFSETFROM:+0100
TZOFFSETTO:+0200
TZNAME:CEST
END:DAYLIGHT
END:VTIMEZONE
END:VCALENDAR