BEGIN:VCALENDAR
VERSION:2.0
PRODID:-//wp-events-plugin.com//7.2.3.1//EN
TZID:Europe/Berlin
X-WR-TIMEZONE:Europe/Berlin
BEGIN:VEVENT
UID:3725@lilabi.net
DTSTART;TZID=Europe/Berlin:20220610T200000
DTEND;TZID=Europe/Berlin:20220611T020000
DTSTAMP:20220527T151638Z
URL:https://www.lilabi.net/events/queere-fau-kneipe/
SUMMARY:Queere FAU-Kneipe
DESCRIPTION:An jedem 2. Freitag des Monats lädt die FAU Bielefeld ein zur 
 FAU-Kneipe. Musik\, Austausch und Kaltgetränke in geselliger Runde - dem 
 Stress auf Arbeit\, Schule\, Amt gemeinsam entgegentreten... Vielleicht au
 ch über den Kneipenabend hinaus?\nAm 10.06. spielen wir explizit queere S
 ongs und Klassiker der Bewegung.\n-\n53 Jahre sind seit dem Stonewall-Aufs
 tand vergangen\, aber der Kampf für Selbstbestimmung ist noch lange nicht
  vorbei!\nNicht nur explizit rechte Parteien sondern auch die Grünen und 
 die Linkspartei schieben vergnügt Menschen ab\, darunter auch queere Pers
 onen. Durchschauen wir ihre Doppelmoral und kämpfen wir für eine wirklic
 h offene Welt für alle - egal\, welches Geschlecht\, welche Orientierung 
 oder welche Herkunft eine Person hat.\nNur wir selbst können uns befreien
  und uns das schöne Leben erkämpfen! Gegen Staat\, Kapital\, Parteien un
 d Queerfeindlichkeit!
ATTACH;FMTTYPE=image/jpeg:https://www.lilabi.net/wp-content/uploads/2022/0
 5/FAU_Kneipe01_Vorderseite_Lilabi.jpg
CATEGORIES:Kneipe
LOCATION:FAU-Lokal\, Metzer Straße 20\, Bielefeld\, Deutschland
X-APPLE-STRUCTURED-LOCATION;VALUE=URI;X-ADDRESS=Metzer Straße 20\, Bielefe
 ld\, Deutschland;X-APPLE-RADIUS=100;X-TITLE=FAU-Lokal:geo:0,0
END:VEVENT
BEGIN:VTIMEZONE
TZID:Europe/Berlin
X-LIC-LOCATION:Europe/Berlin
BEGIN:DAYLIGHT
DTSTART:20220327T030000
TZOFFSETFROM:+0100
TZOFFSETTO:+0200
TZNAME:CEST
END:DAYLIGHT
END:VTIMEZONE
END:VCALENDAR