BEGIN:VCALENDAR
VERSION:2.0
PRODID:-//wp-events-plugin.com//7.2.3.1//EN
TZID:Europe/Berlin
X-WR-TIMEZONE:Europe/Berlin
BEGIN:VEVENT
UID:2712@lilabi.net
DTSTART;TZID=Europe/Berlin:20191019T230000
DTEND;TZID=Europe/Berlin:20191020T050000
DTSTAMP:20190917T054549Z
URL:https://www.lilabi.net/events/queer-up-your-life-5/
SUMMARY:Queer up your Life
DESCRIPTION:Olgo Rhythmus und DJane Klaus legen für euch eine bunte Mischu
 ng aus IndieRockPopElectronics\, Hip-Hop und epic Trash auf.\n\nKommet\, t
 anzet und queeret!
CATEGORIES:Party
LOCATION:Bunker Ulmenwall\, Kreuzstraße 0\, Bielefeld\, Deutschland
X-APPLE-STRUCTURED-LOCATION;VALUE=URI;X-ADDRESS=Kreuzstraße 0\, Bielefeld\
 , Deutschland;X-APPLE-RADIUS=100;X-TITLE=Bunker Ulmenwall:geo:0,0
END:VEVENT
BEGIN:VTIMEZONE
TZID:Europe/Berlin
X-LIC-LOCATION:Europe/Berlin
BEGIN:DAYLIGHT
DTSTART:20190331T030000
TZOFFSETFROM:+0100
TZOFFSETTO:+0200
TZNAME:CEST
END:DAYLIGHT
END:VTIMEZONE
END:VCALENDAR