BEGIN:VCALENDAR
VERSION:2.0
PRODID:-//wp-events-plugin.com//7.2.3.1//EN
TZID:Europe/Berlin
X-WR-TIMEZONE:Europe/Berlin
BEGIN:VEVENT
UID:4652@lilabi.net
DTSTART;TZID=Europe/Berlin;VALUE=DATE:20230217
DTEND;TZID=Europe/Berlin;VALUE=DATE:20230218
DTSTAMP:20230213T152946Z
URL:https://www.lilabi.net/events/pre-intermusica-party-spendenkampage-fue
 r-betroffene-des-erdbebens/
SUMMARY:Pre-Intermusica Party (Spendenkampage für Betroffene des Erdbebens
 )
DESCRIPTION:Die Party ist Teil einer Spendenkampagne in Bielefeld. Ziel der
  Kampagne ist es\, Geld für die Betroffenen des aktuellen schweren Erdbeb
 ens zu sammeln. Der Eintritt wird an„Heyva Sor a Kurdistanê e.V.“ ges
 pendet\nThe party is part of a wider campaign in Bielefeld to collect fund
 s for people touched by the recent huge earthquake.The entrance fees will 
 be donated to „Heyva Sor a Kurdistanê e.V.“\nTime Table:\n23:00 - 00:
 30h - Dilosaurier\n00:30 - 02:00h - Mila Szq\n02:00 - 03:30h - Dj Aromatee
 q\n03:30 - 05:00h - Solidarity\n
LOCATION:Nr. z. P.\, Große Kurfürstenstraße 81\, Bielefeld\, Deutschland
X-APPLE-STRUCTURED-LOCATION;VALUE=URI;X-ADDRESS=Große Kurfürstenstraße 8
 1\, Bielefeld\, Deutschland;X-APPLE-RADIUS=100;X-TITLE=Nr. z. P.:geo:0,0
END:VEVENT
BEGIN:VTIMEZONE
TZID:Europe/Berlin
X-LIC-LOCATION:Europe/Berlin
BEGIN:STANDARD
DTSTART:20221030T020000
TZOFFSETFROM:+0200
TZOFFSETTO:+0100
TZNAME:CET
END:STANDARD
END:VTIMEZONE
END:VCALENDAR