BEGIN:VCALENDAR
VERSION:2.0
PRODID:-//wp-events-plugin.com//7.2.3.1//EN
TZID:Europe/Berlin
X-WR-TIMEZONE:Europe/Berlin
BEGIN:VEVENT
UID:6343@lilabi.net
DTSTART;TZID=Europe/Berlin:20250804T200000
DTEND;TZID=Europe/Berlin:20250804T220000
DTSTAMP:20250723T134941Z
URL:https://www.lilabi.net/events/polizei-und-holocaust/
SUMMARY:Polizei und Holocaust
DESCRIPTION:Was waren die Haupttätergruppen im Nationalsozialismus? Die SS
 \, SA\, Wehrmacht oder die Gestapo? Natürlich! Vergessen wird aber oft\, 
 dass es auch Institutionen mit einer großen staatlichen Kontinuität gibt
 \, die sich entscheidend an der Shoah beteiligten. Dazu gehört zweifellos
  die deutsche Polizei. Ihre Aufgabenfelder umfasste etwa die Deportationen
  und Ghettoisierung von Jüdinnen*Juden – und Massenerschießungen von H
 underttausenden. In Polizeibataillonen verübten zehntausende Polizisten i
 n besetzte Gebieten Kriegsverbrechen. Viele der Täter arbeiteten in der N
 achkriegszeit wieder in unterschiedlichsten Polizeibehörden der Bundesrep
 ublik.\n\nVor 30 Jahren revolutionierte Christopher Browning in seiner Stu
 die „Ganz normale Männer“ die Täterforschung. Er wies am Beispiel ei
 nes Hamburger Reservepolizeibataillons bedeutende Handlungsoptionen der be
 teiligten Polizisten nach. Der Vortrag ordnet die Rolle der uniformierten 
 Polizei im NS-Staat ein und erweitert die Debatte um Täterschaft um aktue
 lle geschichtswissenschaftliche Deutungen von Kategorien wie Kollaboration
 \, Raum und Geschlecht in Anlehnung an das neu erschienene Buch „Polizei
  und Holocaust – Eine Generation nach Christopher Brownings Ordinary Men
 “.\n\nDer Referent ist Mitherausgeber des Bandes und Wissenschaftlich-P
 ädagogischer Mitarbeiter des Geschichtsort Villa ten Hompel in Münster.\
 n\nWann? 04.08 - 20 Uhr\nWo? Extra Blues Bar
CATEGORIES:Vortrag
LOCATION:Extra Blues Bar\, Siekerstraße 20\, Bielefeld\, Deutschland
X-APPLE-STRUCTURED-LOCATION;VALUE=URI;X-ADDRESS=Siekerstraße 20\, Bielefel
 d\, Deutschland;X-APPLE-RADIUS=100;X-TITLE=Extra Blues Bar:geo:0,0
END:VEVENT
BEGIN:VTIMEZONE
TZID:Europe/Berlin
X-LIC-LOCATION:Europe/Berlin
BEGIN:DAYLIGHT
DTSTART:20250330T030000
TZOFFSETFROM:+0100
TZOFFSETTO:+0200
TZNAME:CEST
END:DAYLIGHT
END:VTIMEZONE
END:VCALENDAR