BEGIN:VCALENDAR
VERSION:2.0
PRODID:-//wp-events-plugin.com//7.2.3.1//EN
TZID:Europe/Berlin
X-WR-TIMEZONE:Europe/Berlin
BEGIN:VEVENT
UID:3672@lilabi.net
DTSTART;TZID=Europe/Berlin:20220324T190000
DTEND;TZID=Europe/Berlin:20220324T230000
DTSTAMP:20220205T090229Z
URL:https://www.lilabi.net/events/poetry-slam-mehr-vielfalt-fuer-eine-welt
 /
SUMMARY:Poetry Slam: Mehr Vielfalt für Eine Welt
DESCRIPTION:\n\n2015 wurden von allen Staaten der Erde 17 nachhaltige Entwi
 cklungsziele (Englisch: Sustainable Development Goals\, kurz: SDGs) beschl
 ossen. Das 10. Ziel strebt den Abbau von Ungleichheit und ein selbstbestim
 mtes Leben für alle an. Dahinter steht u.a. die Abschaffung aller diskrim
 inierenden Gesetze\, Politiken und Praktiken. Keine*r soll aufgrund von Al
 ter\, Geschlecht\, Behinderung\, Ethnizität\, Herkunft\, Religion oder au
 s rassistischen Gründen von der politischen\, sozialen und wirtschaftlich
 en Teilhabe ausgeschlossen werden. Die SDGs gelten für alle Länder und s
 ollen bis 2030 erreicht werden.\n\nWo steht Deutschland in Bezug auf das 1
 0. nachhaltige Entwicklungsziel? Was läuft bereits gut und wo herrscht no
 ch Handlungsbedarf\, um das Ziel bis 2030 zu erreichen? Slammer*innen aus 
 ganz NRW präsentieren ihre Texte rund um diese Fragen und regen zum Nachd
 enken und Diskutieren an.\n\n\n\n\nVeranstalter: Welthaus Bielefeld\n\nVer
 anstaltungsort: Grüner Würfel\, Kesselbrink 2\, 33602 Bielefeld\, Bistro
  Keimzeit im Erdgeschoss\n\nEintritt: Kostenlos\, um eine Spende wird gebe
 ten.\n\nAnmeldung unter: lara.bartels@welthaus.de\n\nDie Teilnehmendenzahl
  vor Ort ist begrenzt\, um Anmeldung wird gebeten. Sollte aufgrund der Pan
 demielage die Veranstaltung nicht in Präsenz im Grünen Würfel stattfind
 en können\, findet sie online über „Zoom“ statt. Allen\, die sich zu
 r Veranstaltung angemeldet haben\, wird dann am Tag der Veranstaltung ein 
 Zoom-Link per Mail zugeschickt.\n\nDies ist eine Veranstaltung im Rahmen d
 er Bielefelder Aktionswochen gegen Rassismus\, 2022. Weitere Informationen
  unter: https://interkulturelles-bielefeld.de/dee/aktionswochen-gegen-rass
 ismus/\n\n
ATTACH;FMTTYPE=image/jpeg:https://www.lilabi.net/wp-content/uploads/2022/0
 2/Poetry-Slam-Anti-Rassismus-Aktionswochen_verkleinert.png
CATEGORIES:Antiracism Festival
LOCATION:Grüner Würfel\, Bistro Keimzeit im Erdgeschoss\, Kesselbrink 2\,
  33602 Bielefeld\, Bielefeld\, Deutschland
X-APPLE-STRUCTURED-LOCATION;VALUE=URI;X-ADDRESS=Kesselbrink 2\, 33602 Biele
 feld\, Bielefeld\, Deutschland;X-APPLE-RADIUS=100;X-TITLE=Grüner Würfel\
 , Bistro Keimzeit im Erdgeschoss:geo:0,0
END:VEVENT
BEGIN:VTIMEZONE
TZID:Europe/Berlin
X-LIC-LOCATION:Europe/Berlin
BEGIN:STANDARD
DTSTART:20211031T020000
TZOFFSETFROM:+0200
TZOFFSETTO:+0100
TZNAME:CET
END:STANDARD
END:VTIMEZONE
END:VCALENDAR