BEGIN:VCALENDAR
VERSION:2.0
PRODID:-//wp-events-plugin.com//7.2.3.1//EN
TZID:Europe/Berlin
X-WR-TIMEZONE:Europe/Berlin
BEGIN:VEVENT
UID:4478@lilabi.net
DTSTART;TZID=Europe/Berlin:20221208T190000
DTEND;TZID=Europe/Berlin:20221208T203000
DTSTAMP:20221124T131339Z
URL:https://www.lilabi.net/events/poetische-streuungen-das-lyrik-kollektiv
 -l-i-c-h-t-s-t-r-e-u-liest-im-mondo/
SUMMARY:Poetische Streuungen - Das Lyrik-Kollektiv "l i c h t s t r e u" li
 est im mondo
DESCRIPTION:Als die Corona-Pandemie zwischen 2020 und 2022 die öffentliche
  Kultur zum Schweigen brachte\, kommunizierten die Autor*innen untereinand
 er weiter\, und nicht nur das: Sie schrieben gemeinsam an einem Kettengedi
 cht\, bei dem ein Gedicht auf ein vorheriges antwortet. In Zeiten des kult
 urellen ‚Blackouts’ entstand auf diese Weise ein vierstimmiges poetisc
 hes Gespräch\, das im Mondo eine erneute Aufführung erfährt. Die Zuhör
 er*innen erwartet ein lyrisches Experiment\, das getragen war von einer Er
 wartungsspannung: Wie schließt ein Gedicht an das Vorherige an\, um es zu
  erweitern\, und sich doch in Form und Inhalt individuell zeigen zu könne
 n? Nicht zuletzt geht es auch um die Frage nach Lyrik und Freiheit.\n\nLes
 ung mit Elke Engelhardt\, Barbara Daiber\, Lothar Flachmann und Ralf Burni
 cki.\n\nBeginn 19.00 Uhr\, Eintritt frei.\n\n&nbsp\;
ATTACH;FMTTYPE=image/jpeg:https://www.lilabi.net/wp-content/uploads/2022/1
 1/Lyrikkollektiv_lichtstreu_800x600.jpg
CATEGORIES:Lesung
LOCATION:Mondo Buchhandlung\, Elsa-Brandström-Str. 23 \, Bielelefeld\, 336
 02 \, Deutschland
X-APPLE-STRUCTURED-LOCATION;VALUE=URI;X-ADDRESS=Elsa-Brandström-Str. 23 \,
  Bielelefeld\, 33602 \, Deutschland;X-APPLE-RADIUS=100;X-TITLE=Mondo Buchh
 andlung:geo:0,0
END:VEVENT
BEGIN:VTIMEZONE
TZID:Europe/Berlin
X-LIC-LOCATION:Europe/Berlin
BEGIN:STANDARD
DTSTART:20221030T020000
TZOFFSETFROM:+0200
TZOFFSETTO:+0100
TZNAME:CET
END:STANDARD
END:VTIMEZONE
END:VCALENDAR