BEGIN:VCALENDAR
VERSION:2.0
PRODID:-//wp-events-plugin.com//7.2.3.1//EN
TZID:Europe/Berlin
X-WR-TIMEZONE:Europe/Berlin
BEGIN:VEVENT
UID:4436@lilabi.net
DTSTART;TZID=Europe/Berlin:20220930T160000
DTEND;TZID=Europe/Berlin:20221001T220000
DTSTAMP:20220928T123145Z
URL:https://www.lilabi.net/events/planet-42-praesentiert-block-party-half-
 unplugged-solifestival/
SUMMARY:Planet 42 präsentiert: BLOCK PARTY - (half) unplugged Solifestival
DESCRIPTION:Hey!\n\nVon Freitag den 30.09.22 bis Samstag den 01.10.22 ab je
 weils 16 Uhr gibt’s ne Soliparty im Hakenort/Ecke Petristraße\, um der 
 drohenden Abrissbirne mal entgegenzusingen\, was wir von Pseudo- Wohnrauma
 ufwertung zur Gewinnmaximierung halten. Ihr seid herzlich eingeladen! Es g
 ibt großartige Bands verschiedener Stilrichtungen zu hören. Gerüchtehal
 ber haben einige der Punkbands im Line-Up für den guten Solizweck sogar a
 uf einige Dezibel ihrer sonst so prominenten Lautstärke verzichtet und sc
 hräbbeln sich nun (half-)Unplugged durch ihr Set. Das ist spannend\; MTV 
 ist aber nicht mit am Start\, soweit wir wissen \;-) In diesem Sinne\, kom
 mt (bitte getestet) vorbei: Junior Mandingo\, Irritator\, Lektion:Hammer\,
  SOK\, Mad Cap\, Clishé\, Koma\, DysRaised und noch einige Überraschungs
 gäste freuen sich jetzt schon riesig auf Euch.\n\nBis dahin!\n\n(P.S.: di
 e Veranstaltung darf gerne geteilt werden!)
ATTACH;FMTTYPE=image/jpeg:https://www.lilabi.net/wp-content/uploads/2022/0
 9/blockparty_lilabi2.jpg
CATEGORIES:Konzert,Küfa,Musik,Party,Soli
LOCATION:Planet 42\, Hakenort 42\, Bielefeld\, 33609\, Deutschland
X-APPLE-STRUCTURED-LOCATION;VALUE=URI;X-ADDRESS=Hakenort 42\, Bielefeld\, 3
 3609\, Deutschland;X-APPLE-RADIUS=100;X-TITLE=Planet 42:geo:0,0
END:VEVENT
BEGIN:VTIMEZONE
TZID:Europe/Berlin
X-LIC-LOCATION:Europe/Berlin
BEGIN:DAYLIGHT
DTSTART:20220327T030000
TZOFFSETFROM:+0100
TZOFFSETTO:+0200
TZNAME:CEST
END:DAYLIGHT
END:VTIMEZONE
END:VCALENDAR