BEGIN:VCALENDAR
VERSION:2.0
PRODID:-//wp-events-plugin.com//7.2.3.1//EN
TZID:Europe/Berlin
X-WR-TIMEZONE:Europe/Berlin
BEGIN:VEVENT
UID:3714@lilabi.net
DTSTART;TZID=Europe/Berlin:20220514T130000
DTEND;TZID=Europe/Berlin:20220514T234500
DTSTAMP:20220511T074318Z
URL:https://www.lilabi.net/events/planet-42-hof-und-gartenfest/
SUMMARY:Planet 42 Hof und Gartenfest
DESCRIPTION:Planet 42 e.V. lädt ein zum 2. Haus\, Hof und Gartenfest. Wir 
 wollen usner Haus den Hakenort 42 kaufen. LAsst uns das celebrieren und ga
 nz nebenbei ein paar Taler einsammeln\n\nTheater:\nFigurentheater Cyanacry
 lat: Kumpels\nAna Banana the Showsenone (Comedy Circus Performance)\n\nBan
 ds:\n\nNo Chronicles (Experimental Pink Metal // Bielefeld)\nNeonNeon (Pos
 t Punk // Bremen)\nQWERTZ (Handgemachtes Bassgewitter // Bielefeld)\nKicky
  Ring (Eletro Surf from out of space // Osnabrück)\nOXI (Electronic Live 
 Music // Bielefeld)
ATTACH;FMTTYPE=image/jpeg:https://www.lilabi.net/wp-content/uploads/2022/0
 5/hausfest-planet42-2022-A3-01.png
CATEGORIES:Infoveranstaltung,Konzert,Party,Soli,Theater
LOCATION:Planet 42\, Hakenort 42\, Bielefeld\, 33609\, Deutschland
X-APPLE-STRUCTURED-LOCATION;VALUE=URI;X-ADDRESS=Hakenort 42\, Bielefeld\, 3
 3609\, Deutschland;X-APPLE-RADIUS=100;X-TITLE=Planet 42:geo:0,0
END:VEVENT
BEGIN:VTIMEZONE
TZID:Europe/Berlin
X-LIC-LOCATION:Europe/Berlin
BEGIN:DAYLIGHT
DTSTART:20220327T030000
TZOFFSETFROM:+0100
TZOFFSETTO:+0200
TZNAME:CEST
END:DAYLIGHT
END:VTIMEZONE
END:VCALENDAR