BEGIN:VCALENDAR
VERSION:2.0
PRODID:-//wp-events-plugin.com//7.2.3.1//EN
TZID:Europe/Berlin
X-WR-TIMEZONE:Europe/Berlin
BEGIN:VEVENT
UID:4718@lilabi.net
DTSTART;TZID=Europe/Berlin:20230604T140000
DTEND;TZID=Europe/Berlin:20230604T170000
DTSTAMP:20230404T123808Z
URL:https://www.lilabi.net/events/pilgern-auf-dem-global-goals-weg-teilstr
 ecke/
SUMMARY:Pilgern auf dem Global Goals Weg (Teilstrecke)
DESCRIPTION:Sonntag\, 04.06.23\, 14-17 Uhr\, Straßenbahnstation „Auf der
  Hufe“\, Linie 3\n\nWas verbirgt sich hinter den „Gobal Goals“\, den
  weltweiten Nachhaltigkeitszielen der UNO und wo berühren Sie unseren All
 tag? An diesem Sonntag gehen wir auf einem Teilabschnitt des Global Goals 
 Weg in Bielefeld\, der an verschiedenen Stationen die Nachhaltigkeitsziele
  der UNO vorstellt und lernen an ausgewählten Stationen drei Ziele kennen
 . Die abwechslungsreiche\, interaktive Pilgerung findet in Kooperation mit
  dem Kirchenkreis Bielefeld statt und startet bei der Station „Wasser f
 ür alle“ und endet am Obersee\, wo die Station das Ziel „nachhaltig k
 onsumieren und produzieren“ aufgreift. In der Zwischenzeit kommen wir in
  den Austausch darüber\, welche Auswirkung diese Nachhaltigkeitsziele u.a
 . im Bereich der Geschlechtergerechtigkeit haben und wie Nachhaltigkeitszi
 ele in der Stadtplanung (am Beispiel der Strategie für Bielefeld) veranke
 rt werden können. Weitere Informationen zum Global Goals Radweg finden Si
 e unter: global-goals-radweg.de\n\nDie Pilger-Radtour findet im Rahmen der
  bundesweiten Pilgerinitiative der EKD „Go for Gender Justice!“ statt.
 \n\nBitte bringen Sie bequeme und dem Wetter angemessene Kleidung und eige
 ne Verpflegung mit und organisieren Sie die Anreise und den Rückweg selbs
 t.\n\nReferentinnen: Dr. Lara Esther Bartels\, Welthaus Bielefeld und Kers
 tin Schachtsiek (M.A. Gender Studies\, Leitung Erwachsenenbildung im Kirch
 enkreis Bielefeld)\n\nTreffpunkt: Straßenbahnstation „Auf der Hufe“\,
  Linie 3\nEnde: Seekrug am Obersee\nKosten 7 Euro\nAnmeldung bis zum 26. M
 ai 2023 im Sekretariat bei Kerstin Wedekämper:\nFon 0521-5837-198\nerwach
 senenbildung@kirche-bielefeld.de
ATTACH;FMTTYPE=image/jpeg:https://www.lilabi.net/wp-content/uploads/2023/0
 4/IMG_20220814_154727-1.jpg
CATEGORIES:Führung/Rundgang
LOCATION:Straßenbahnstation „Auf der Hufe“\, Straßenbahnstation „Au
 f der Hufe“\, Linie 3\, 33602 Bielefeld\, Deutschland
X-APPLE-STRUCTURED-LOCATION;VALUE=URI;X-ADDRESS=Straßenbahnstation „Auf 
 der Hufe“\, Linie 3\, 33602 Bielefeld\, Deutschland;X-APPLE-RADIUS=100;X
 -TITLE=Straßenbahnstation „Auf der Hufe“:geo:0,0
END:VEVENT
BEGIN:VTIMEZONE
TZID:Europe/Berlin
X-LIC-LOCATION:Europe/Berlin
BEGIN:DAYLIGHT
DTSTART:20230326T030000
TZOFFSETFROM:+0100
TZOFFSETTO:+0200
TZNAME:CEST
END:DAYLIGHT
END:VTIMEZONE
END:VCALENDAR