BEGIN:VCALENDAR
VERSION:2.0
PRODID:-//wp-events-plugin.com//7.2.3.1//EN
TZID:Europe/Berlin
X-WR-TIMEZONE:Europe/Berlin
BEGIN:VEVENT
UID:4779@lilabi.net
DTSTART;TZID=Europe/Berlin:20230723T120000
DTEND;TZID=Europe/Berlin:20230723T200000
DTSTAMP:20230626T110654Z
URL:https://www.lilabi.net/events/petristrasse-2-open-house/
SUMMARY:Petristraße 2: Open house
DESCRIPTION:20 Jahre und mehr\n\nstand das Haus an der Petristrasse 2 grö
 ßtenteils leer.\n\nEntsprechend ist es verkommen und unbewohnbar.\n\nAls 
 Initiative wollen wir das Haus wieder zu einem lebendigen Ort machen\, der
  Raum für Menschen\, Gemeinschaft und Kultur bietet. Dafür muss es aber 
 erst einmal gründlich saniert werden…Oder?\n\nWir finden wir können au
 ch jetzt schon das Haus zum Leben erwecken!\n\nAm 23.07.2023 von 12-20h we
 rden lokale Künstler*innen die leeren Räume in unterschiedlicher Weise b
 espielen.\n\nViele von euch haben das Haus bisher vermutlich nur von auße
 n bewundern können. An diesem Sonntag habt ihr die Möglichkeit das Haus 
 auch von innen zu erleben. Die\, milde ausgedrückt\, etwas in die Jahre g
 ekommene Bausubstanz bietet ganz nebenbei eine tolle Kulisse für die ausg
 estellten Kunstwerke.\n\nKommt vorbei. Der Eintritt ist frei. Es gibt Getr
 änke und Essen gegen kleines Geld\, Musik &amp\; Gelegenheiten zum Mitmac
 hen und für Gespräche.
ATTACH;FMTTYPE=image/jpeg:https://www.lilabi.net/wp-content/uploads/2023/0
 6/23.07.2312-20hPETRISTRASSE2BIELEFELD-2.png
CATEGORIES:Ausstellung,Austausch/Vernetzung,DIY,Film,Infoveranstaltung,Kü
 fa,Musik
LOCATION:Petristraße 2\, Petristraße 2\, Bielefeld\, 33609\, Deutschland
X-APPLE-STRUCTURED-LOCATION;VALUE=URI;X-ADDRESS=Petristraße 2\, Bielefeld\
 , 33609\, Deutschland;X-APPLE-RADIUS=100;X-TITLE=Petristraße 2:geo:0,0
END:VEVENT
BEGIN:VTIMEZONE
TZID:Europe/Berlin
X-LIC-LOCATION:Europe/Berlin
BEGIN:DAYLIGHT
DTSTART:20230326T030000
TZOFFSETFROM:+0100
TZOFFSETTO:+0200
TZNAME:CEST
END:DAYLIGHT
END:VTIMEZONE
END:VCALENDAR