BEGIN:VCALENDAR
VERSION:2.0
PRODID:-//wp-events-plugin.com//7.2.3.1//EN
TZID:Europe/Berlin
X-WR-TIMEZONE:Europe/Berlin
BEGIN:VEVENT
UID:4493@lilabi.net
DTSTART;TZID=Europe/Berlin:20221224T220000
DTEND;TZID=Europe/Berlin:20221225T050000
DTSTAMP:20221219T145758Z
URL:https://www.lilabi.net/events/party-nevermind-santa-claus/
SUMMARY:Party: Nevermind Santa Claus
DESCRIPTION:Party am Heiligabend\n\n24. Dezember 2022\n\nab 22 Uhr\n\nKommt
  bitte getestet!
ATTACH;FMTTYPE=image/jpeg:https://www.lilabi.net/wp-content/uploads/2022/1
 2/5brnL4b.jpeg
CATEGORIES:Party
LOCATION:AJZ Bielefeld\, Heeper Str. 132\, 33607 Bielefeld\, Deutschland
X-APPLE-STRUCTURED-LOCATION;VALUE=URI;X-ADDRESS=Heeper Str. 132\, 33607 Bie
 lefeld\, Deutschland;X-APPLE-RADIUS=100;X-TITLE=AJZ Bielefeld:geo:0,0
END:VEVENT
BEGIN:VTIMEZONE
TZID:Europe/Berlin
X-LIC-LOCATION:Europe/Berlin
BEGIN:STANDARD
DTSTART:20221030T020000
TZOFFSETFROM:+0200
TZOFFSETTO:+0100
TZNAME:CET
END:STANDARD
END:VTIMEZONE
END:VCALENDAR