BEGIN:VCALENDAR
VERSION:2.0
PRODID:-//wp-events-plugin.com//7.2.3.1//EN
TZID:Europe/Berlin
X-WR-TIMEZONE:Europe/Berlin
BEGIN:VEVENT
UID:5594@lilabi.net
DTSTART;TZID=Europe/Berlin:20240330T120000
DTEND;TZID=Europe/Berlin:20240330T143000
DTSTAMP:20240318T140036Z
URL:https://www.lilabi.net/events/ostermarsch-owl-2024-waffenstillstand-un
 d-abruestung-jetzt-frieden-und-klimagerechtigkeit/
SUMMARY:OSTERMARSCH OWL 2024 - Waffenstillstand und Abrüstung jetzt! Fried
 en und Klimagerechtigkeit!
DESCRIPTION:Wir leben in einer kriegerischen Welt\, in der aktuell mehr als
  20 Kriege wüten. Hinzu kommen weitere bewaffnete Konflikte. Statt sich f
 ür Frieden und Abrüstung einzusetzen\, ruft der deutsche Verteidigungsmi
 nister Pistorius zur Kriegstüchtigkeit auf. Immer mehr Geld in Deutschlan
 d\, der EU und den NATO-Ländern wird für Rüstung und Krieg ausgegeben.\
 n\nhttps://bielefelder-friedensini.de/?p=2675
ATTACH;FMTTYPE=image/jpeg:https://www.lilabi.net/wp-content/uploads/2024/0
 3/432228303_718113053840304_2584785700082821457_n.jpg
LOCATION:Bielefeld\, Bahnhofsplatz\, Bahnhofsplatz\, Bielefeld\, NRW\, 3360
 2\, Deutschland
X-APPLE-STRUCTURED-LOCATION;VALUE=URI;X-ADDRESS=Bahnhofsplatz\, Bielefeld\,
  NRW\, 33602\, Deutschland;X-APPLE-RADIUS=100;X-TITLE=Bielefeld\, Bahnhofs
 platz:geo:0,0
END:VEVENT
BEGIN:VTIMEZONE
TZID:Europe/Berlin
X-LIC-LOCATION:Europe/Berlin
BEGIN:STANDARD
DTSTART:20231029T020000
TZOFFSETFROM:+0200
TZOFFSETTO:+0100
TZNAME:CET
END:STANDARD
END:VTIMEZONE
END:VCALENDAR