BEGIN:VCALENDAR
VERSION:2.0
PRODID:-//wp-events-plugin.com//7.2.3.1//EN
TZID:Europe/Berlin
X-WR-TIMEZONE:Europe/Berlin
BEGIN:VEVENT
UID:3475@lilabi.net
DTSTART;TZID=Europe/Berlin:20210122T190000
DTEND;TZID=Europe/Berlin:20210123T150000
DTSTAMP:20210111T075027Z
URL:https://www.lilabi.net/events/onlineworkshop-klimagerechtigkeit/
SUMMARY:Onlineworkshop "Klimagerechtigkeit"
DESCRIPTION:\nIm Kontext der Klimakrise taucht immer wieder der Begriff der
  „Klimagerechtigkeit“ auf.\nDoch was bedeutet dieser Begriff eigentlic
 h? Welche Verbindungen gibt es zwischen sozialen und ökologischen Problem
 en auf der Welt? Was hat dazu geführt\, dass Menschen unterschiedlich sta
 rk von den Folgen der Klimakrise betroffen sind? Wovon ist die Rede\, wenn
  von „Globaler Norden“ und „Globaler Süden“ die Rede ist?\n\nÜbe
 r diese und weitere Fragen möchten wir mit euch in unserem Workshop in ei
 nen Austausch kommen. Dabei richtet sich unser Angebot insbesondere an die
 jenigen\, die Interesse an den Themen Nachhaltigkeit und Klimagerechtigkei
 t haben und sich mit den (globalen) Zusammenhängen auseinandersetzen woll
 en.\nAlle Infos und Anmeldung unter https://www.bundjugend-nrw.de/.../klim
 aungerechtigkeit.../\n
ATTACH;FMTTYPE=image/jpeg:https://www.lilabi.net/wp-content/uploads/2021/0
 1/Share-Pic.jpg
CATEGORIES:Workshop
END:VEVENT
BEGIN:VTIMEZONE
TZID:Europe/Berlin
X-LIC-LOCATION:Europe/Berlin
BEGIN:STANDARD
DTSTART:20201025T020000
TZOFFSETFROM:+0200
TZOFFSETTO:+0100
TZNAME:CET
END:STANDARD
END:VTIMEZONE
END:VCALENDAR