BEGIN:VCALENDAR
VERSION:2.0
PRODID:-//wp-events-plugin.com//7.2.3.1//EN
TZID:Europe/Berlin
X-WR-TIMEZONE:Europe/Berlin
BEGIN:VEVENT
UID:4916@lilabi.net
DTSTART;TZID=Europe/Berlin:20240305T183000
DTEND;TZID=Europe/Berlin:20240305T203000
DTSTAMP:20240116T150257Z
URL:https://www.lilabi.net/events/online-workshop-humor-als-politische-waf
 fe-nutzen-empowerment-durch-humor-in-sozialen-bewegungen/
SUMMARY:Online-Workshop: Humor als politische Waffe nutzen - Empowerment du
 rch Humor in Sozialen Bewegungen
DESCRIPTION:\n\nWenn wir uns mit den Ungerechtigkeiten in dieser Welt ausei
 nandersetzen und uns gegen sie engagieren\, ist uns meistens nicht zum Lac
 hen zumute.\n\nDieser interaktive Workshop erkundet die positive und empow
 ernde Wirkung eines „Humors von unten“.\n\nMit Humor als gewaltfreie W
 affe können wir Situationen erzeugen in denen scheinbar übermächtige Ge
 gner*innen für einen Moment machtlos werden.\n\nGemeinsam überlegen wir\
 , wie durch humorvolle Kleingruppenaktionen Aufmerksamkeit auf unsere poli
 tischen Anliegen gelenkt werden kann\, wie eine humorvolle Haltung unsere 
 Gesundheit und unseren Gruppenzusammenhalt stärken kann\, aber auch welch
 e Grenzen Humor hat.\n\nDer Zugang erfolgt über diesen Link: https://indi
 go.collocall.de/wfg-juw-jn0-n2s\n\n
CATEGORIES:DIY,Online,Workshop
LOCATION:https://indigo.collocall.de/wfg-juw-jn0-n2s
END:VEVENT
BEGIN:VTIMEZONE
TZID:Europe/Berlin
X-LIC-LOCATION:Europe/Berlin
BEGIN:STANDARD
DTSTART:20231029T020000
TZOFFSETFROM:+0200
TZOFFSETTO:+0100
TZNAME:CET
END:STANDARD
END:VTIMEZONE
END:VCALENDAR