BEGIN:VCALENDAR
VERSION:2.0
PRODID:-//wp-events-plugin.com//7.2.3.1//EN
TZID:Europe/Berlin
X-WR-TIMEZONE:Europe/Berlin
BEGIN:VEVENT
UID:3446@lilabi.net
DTSTART;TZID=Europe/Berlin;VALUE=DATE:20201014
DTEND;TZID=Europe/Berlin;VALUE=DATE:20201016
DTSTAMP:20200921T091201Z
URL:https://www.lilabi.net/events/online-seminar-einfuehrung-in-rassismus-
 und-kolonialismus/
SUMMARY:Online Seminar: Einführung in Rassismus und Kolonialismus
DESCRIPTION:https://www.gegenrechts.info/termine.html?day=20201005
CATEGORIES:Workshop
END:VEVENT
BEGIN:VTIMEZONE
TZID:Europe/Berlin
X-LIC-LOCATION:Europe/Berlin
BEGIN:DAYLIGHT
DTSTART:20200329T030000
TZOFFSETFROM:+0100
TZOFFSETTO:+0200
TZNAME:CEST
END:DAYLIGHT
END:VTIMEZONE
END:VCALENDAR