BEGIN:VCALENDAR
VERSION:2.0
PRODID:-//wp-events-plugin.com//7.2.3.1//EN
TZID:Europe/Berlin
X-WR-TIMEZONE:Europe/Berlin
BEGIN:VEVENT
UID:3665@lilabi.net
DTSTART;TZID=Europe/Berlin:20211216T190000
DTEND;TZID=Europe/Berlin:20211216T220000
DTSTAMP:20211216T095408Z
URL:https://www.lilabi.net/events/online-lesung-die-wuerde-des-menschen-is
 t-abbschiebbar/
SUMMARY:Online-Lesung: Die Würde des Menschen ist abbschiebbar
DESCRIPTION:Online-Lesung und Diskussion\nDie Würde des Menschen ist absch
 iebbar.\nEinblicke in Geschichte\, Bedingungen und Realitäten deutscher A
 bschiebehaft\n\nAm 16.12.2021 lesen Lina Droste und Sebastian Nitschke aus
  ihrem kürzlich erschienen Buch "Die Würde des Menschen ist abschiebbar"
 . Die Autor*innen geben in einer Mischung aus politischem Bericht und wiss
 enschaftlicher Analyse Einblicke in die Geschichte\, Bedingungen und die b
 ittere Realität deutscher Abschiebeknäste.\nZusammen mit Oumar Mamabarki
 ndo und der „Community for all’ wurden persönliche Gespräche mit Inh
 aftierten geführt und Gerichtsakten ausgewertet. Daneben widmet sich das 
 Buch auch dem nahe Bielefeld gelegen Abschiebeknast in Büren. Andere Text
 e behandeln die Haftbedingungen\, Isolationshaft\, persönliche Berichte\,
  Porträts und Ko.\nDeutlich wird\, dass Abschiebeknäste als Teil der ras
 sistischen\, repressiven Ordnung begriffen werden müssen.\n\nDie Veransta
 ltung ist kostenlos und findet online statt und startet um 19 Uhr\nVeranst
 alterin: Feministisches Referat Uni Bielefeld\n\nLink zur Veranstaltung: h
 ttps://uni-bielefeld.zoom.us/j/98485605052?pwd=QWs0aGRDVmlIeVYzZFFzMW1RSnV
 KZz09 (Meeting-ID: 984 8560 5052 / Passwort: 164872)\n\nInfos zum Buch: ht
 tps://www.edition-assemblage.de/buecher/die-wuerde-des-menschen-ist-abschi
 ebbar/
CATEGORIES:Buchvorstellung
END:VEVENT
BEGIN:VTIMEZONE
TZID:Europe/Berlin
X-LIC-LOCATION:Europe/Berlin
BEGIN:STANDARD
DTSTART:20211031T020000
TZOFFSETFROM:+0200
TZOFFSETTO:+0100
TZNAME:CET
END:STANDARD
END:VTIMEZONE
END:VCALENDAR