BEGIN:VCALENDAR
VERSION:2.0
PRODID:-//wp-events-plugin.com//7.2.3.1//EN
TZID:Europe/Berlin
X-WR-TIMEZONE:Europe/Berlin
BEGIN:VEVENT
UID:4917@lilabi.net
DTSTART;TZID=Europe/Berlin:20240319T183000
DTEND;TZID=Europe/Berlin:20240319T203000
DTSTAMP:20240116T150312Z
URL:https://www.lilabi.net/events/online-austausch-nachhaltiger-aktivismus
 -community-care-burnout-praevention/
SUMMARY:Online-Austausch: Nachhaltiger Aktivismus - Community Care &amp\; B
 urnout Prävention
DESCRIPTION:Let's care for each other so that we can be dangerous together!
 \nFür eine bessere Welt aktiv zu sein und gegen Ungerechtigkeiten aufzust
 ehen ist manchmal nicht nur richtig anstrengend\, sondern wird uns auch im
 mer wieder von verschiedensten Seiten ziemlich schwer gemacht - manchmal a
 uch von uns selbst.\nIn einem Workshop wollen wir uns gemeinsam Strategien
  für Community Care in unseren Bezugsgruppen\, Initiativen\, Zusammenschl
 üssen und Bündnissen anschauen und darüber sprechen was wir von unseren
  Gemeinschaften brauchen um langfristig aktiv sein zu können.\nDer Zugang
  erfolgt über diesen Link: https://indigo.collocall.de/wfg-juw-jn0-n2s
CATEGORIES:DIY,Online,Workshop
LOCATION:https://indigo.collocall.de/wfg-juw-jn0-n2s
END:VEVENT
BEGIN:VTIMEZONE
TZID:Europe/Berlin
X-LIC-LOCATION:Europe/Berlin
BEGIN:STANDARD
DTSTART:20231029T020000
TZOFFSETFROM:+0200
TZOFFSETTO:+0100
TZNAME:CET
END:STANDARD
END:VTIMEZONE
END:VCALENDAR