BEGIN:VCALENDAR
VERSION:2.0
PRODID:-//wp-events-plugin.com//7.2.3.1//EN
TZID:Europe/Berlin
X-WR-TIMEZONE:Europe/Berlin
BEGIN:VEVENT
UID:3580@lilabi.net
DTSTART;TZID=Europe/Berlin:20211109T180000
DTEND;TZID=Europe/Berlin:20211214T190000
DTSTAMP:20211106T125121Z
URL:https://www.lilabi.net/event-recurring/offene-sprechstunde-der-roten-h
 ilfe/
SUMMARY:Offene Sprechstunde der Roten Hilfe
DESCRIPTION:Die Rote Hilfe e.V. ist eine linke Schutz- und Solidaritätsorg
 anisation\, die Menschen unterstützt\, die aufgrund ihrer politischen Akt
 ivitäten staatliche Repression erfahren. In der Regel zahlen wir 50% der 
 Gesamtkosten (Strafgelder und für die/ den Rechtsanwält:in).\nJeweils am
  zweiten Dienstag im Monat in der Zeit von 18 bis 19 Uhr habt die Möglich
 keit\, uns in der Bürger:Innenwache persönlich anzutreffen und Fragen zu
  eurem Anliegen zu klären.\nWenn ihr nach einer politischen Aktion z.B. e
 inen Bußgeldbescheid\, einen Strafbefehl oder eine Vorladung bekommen hab
 t\, wenn ihr Beratungsbedarf habt\, Fragen zu eurem Unterstützungsantrag 
 oder Interesse an aktiver Mitarbeit\, meldet euch\, am besten per Mail (Sc
 hlüssel schicken wir auf Anfrage zügig zu)\, per Nachricht ins Postfach 
 in der Bürger:innenwache oder kommt zu unserem persönlichen Beratungsang
 ebot.\nSolidarität ist unsere Waffe – schafft Rote Hilfe!\nRote Hilfe e
 .V.Ortsgruppe Bielefeldc/o Bürger:innenwacheRolandstr. 1633615 Bielefeld
CATEGORIES:Soli
LOCATION:Bürger*innenwache Siegfriedplatz\, Rolandstr. 16\, 33615 Bielefel
 d\, Deutschland
X-APPLE-STRUCTURED-LOCATION;VALUE=URI;X-ADDRESS=Rolandstr. 16\, 33615 Biele
 feld\, Deutschland;X-APPLE-RADIUS=100;X-TITLE=Bürger*innenwache Siegfried
 platz:geo:0,0
END:VEVENT
BEGIN:VTIMEZONE
TZID:Europe/Berlin
X-LIC-LOCATION:Europe/Berlin
BEGIN:STANDARD
DTSTART:20211031T020000
TZOFFSETFROM:+0200
TZOFFSETTO:+0100
TZNAME:CET
END:STANDARD
END:VTIMEZONE
END:VCALENDAR