BEGIN:VCALENDAR
VERSION:2.0
PRODID:-//wp-events-plugin.com//7.2.3.1//EN
TZID:Europe/Berlin
X-WR-TIMEZONE:Europe/Berlin
BEGIN:VEVENT
UID:4618@lilabi.net
DTSTART;TZID=Europe/Berlin:20230808T180000
DTEND;TZID=Europe/Berlin:20230808T190000
DTSTAMP:20230124T124206Z
URL:https://www.lilabi.net/events/offene-sprechstunde-der-roten-hilfe-2-20
 23-08-08/
SUMMARY:Offene Sprechstunde der Roten Hilfe
DESCRIPTION:Die Rote Hilfe e.V. ist eine linke Schutz- und Solidaritätsorg
 anisation\, die Menschen unterstützt\, die aufgrund ihrer politischen Akt
 ivitäten staatliche Repression erfahren. In der Regel zahlen wir 50% der 
 Gesamtkosten (Strafgelder\, Gerichtskosten und für die/ den Rechtsanwält
 :in).Wenn ihr nach einer politischen Aktion z.B. einen Bußgeldbescheid\, 
 einen Strafbefehl oder eine Vorladung bekommen habt\, wenn ihr Beratungsbe
 darf habt\, Fragen zu eurem Unterstützungsantrag oder Interesse an aktive
 r Mitarbeit\, kommt in unsere offene Sprechstunde: jeden zweiten Dienstag 
 im Monat von 18:00 bis 19:00 Uhr in der Bürger:innenwache am Siegfriedpla
 tz.Oder meldet euch per Mail (Schlüssel schicken wir auf Anfrage zügig z
 u) oder per Nachricht ins Postfach in der Bürger:innenwache. Wir können 
 dann ein persönliches Treffen vereinbaren.\n\nSolidarität ist unsere Waf
 fe – schafft Rote Hilfe!\n\nRote Hilfe e.V.\nOrtsgruppe Bielefeld\nc/o B
 ürger:innenwache\nRolandstr. 16\n33615 Bielefeld\n\nbielefeld (ät) rote-
 hilfe.de\n\n
LOCATION:Bürger*innenwache Siegfriedplatz\, Rolandstr. 16\, 33615 Bielefel
 d\, Deutschland
X-APPLE-STRUCTURED-LOCATION;VALUE=URI;X-ADDRESS=Rolandstr. 16\, 33615 Biele
 feld\, Deutschland;X-APPLE-RADIUS=100;X-TITLE=Bürger*innenwache Siegfried
 platz:geo:0,0
END:VEVENT
BEGIN:VTIMEZONE
TZID:Europe/Berlin
X-LIC-LOCATION:Europe/Berlin
BEGIN:DAYLIGHT
DTSTART:20230326T030000
TZOFFSETFROM:+0100
TZOFFSETTO:+0200
TZNAME:CEST
END:DAYLIGHT
END:VTIMEZONE
END:VCALENDAR