BEGIN:VCALENDAR
VERSION:2.0
PRODID:-//wp-events-plugin.com//7.2.3.1//EN
TZID:Europe/Berlin
X-WR-TIMEZONE:Europe/Berlin
BEGIN:VEVENT
UID:4467@lilabi.net
DTSTART;TZID=Europe/Berlin:20221124T183000
DTEND;TZID=Europe/Berlin:20221124T203000
DTSTAMP:20221121T140932Z
URL:https://www.lilabi.net/events/offene-gespraechsrunde-genug-ist-genug/
SUMMARY:Offene Gesprächsrunde Genug ist Genug
DESCRIPTION:Die Stadtwerke erhöhen die Preise\, Mieten und Inflation steig
 en\, jeden Tag kommen neue Schreckensnachrichten herein. Zu all der Verzwe
 iflung kommt noch\, dass wir mit nützlichen Spartipps von Politik und Ind
 ustrie nur so zugeballert werden. Fast niemand von uns ist von den heutige
 n Entwicklungen nicht betroffen. Ein solidarischer Austausch kommt dabei b
 isher viel zu kurz. Wir von Genug ist Genug Bielefeld finden: Das kann so 
 nicht weiter gehen! Lasst uns miteinander reden\, darüber was unsere Äng
 ste und Sorgen in diesen Zeiten sind. Wo merken wir die Krise im Alltag am
  meisten? Und was können wir eigentlich tun\, um uns zu unterstützen?\nD
 afür laden wir euch zur lockeren Gesprächsrunde mit Snacks und heißen G
 etränken ein.\n\nWo: IBZ Bielefeld\, Teutoburger Straße 106\nWann: Donne
 rstag\, den 24.11. um 18:30
ATTACH;FMTTYPE=image/jpeg:https://www.lilabi.net/wp-content/uploads/2022/1
 1/E3995134-D871-4530-918F-D6AA293B51FB.jpeg
LOCATION:IBZ Bielefeld\, Teutoburger Straße 106\, Bielefeld\, Deutschland
X-APPLE-STRUCTURED-LOCATION;VALUE=URI;X-ADDRESS=Teutoburger Straße 106\, B
 ielefeld\, Deutschland;X-APPLE-RADIUS=100;X-TITLE=IBZ Bielefeld:geo:0,0
END:VEVENT
BEGIN:VTIMEZONE
TZID:Europe/Berlin
X-LIC-LOCATION:Europe/Berlin
BEGIN:STANDARD
DTSTART:20221030T020000
TZOFFSETFROM:+0200
TZOFFSETTO:+0100
TZNAME:CET
END:STANDARD
END:VTIMEZONE
END:VCALENDAR