BEGIN:VCALENDAR
VERSION:2.0
PRODID:-//wp-events-plugin.com//7.2.3.1//EN
TZID:Europe/Berlin
X-WR-TIMEZONE:Europe/Berlin
BEGIN:VEVENT
UID:5842@lilabi.net
DTSTART;TZID=Europe/Berlin:20250129T160000
DTEND;TZID=Europe/Berlin:20250129T180000
DTSTAMP:20250111T112524Z
URL:https://www.lilabi.net/events/oeffentliche-doppelfuehrung-wir-sind-nic
 ht-allein/
SUMMARY:Öffentliche Doppelführung: Wir sind nicht allein
DESCRIPTION:\n\nWie gestalten wir eine Welt in der alle Menschen weltweit g
 ut leben können und Ökosysteme geschützt und erhalten werden? Unter dem
  Motto: „Wir sind nicht allein“ bietet das Welthaus Bielefeld e.V. und
  die Volksbank Lobby eine gemeinsame Führung durch ihre Ausstellungen an.
 \n\nDie Führung beginnt in der Ausstellung „Wir sind nicht Allein – I
 nsekten in der Stadt“ der Volksbank Lobby. Gemeinsam erkunden wir die Ro
 lle von Insekten in unserem urbanen Ökosystem und wie wir zum Schutz dies
 er beitragen können.\n\nIm Anschluss besuchen wir die multimediale Ausste
 llung „Erlebnisraum Globale Nachhaltigkeit“ des Welthaus Bielefeld. Di
 ese befindet sich wenige Fußschritte entfernt in der Wissenswerkstadt Bie
 lefeld. Hier blicken wir auf derzeitige Lebens- und Wirtschaftsweisen unse
 rer globalisierten Welt und thematisieren wie wir zu sozial gerechteren un
 d ökologisch verträglicheren Zukünften kommen können.\n\nWir bitten um
  Anmeldung unter erlebnisraum@welthaus.de mit dem Stichwort „Doppelführ
 ung“\, Ihren Namen und mit wie vielen Personen Sie teilnehmen.\n\n&nbsp\
 ;\n\nDie Führung ist kostenlos.\n\n
ATTACH;FMTTYPE=image/jpeg:https://www.lilabi.net/wp-content/uploads/2025/0
 1/Wir-sind-nicht-Allein-INSEKTEN-IN-DER-STADT.jpg
CATEGORIES:Ausstellung,Austausch/Vernetzung,Diskussion,Führung/Rundgang,S
 onstiges,Vortrag,Workshop
END:VEVENT
BEGIN:VTIMEZONE
TZID:Europe/Berlin
X-LIC-LOCATION:Europe/Berlin
BEGIN:STANDARD
DTSTART:20241027T020000
TZOFFSETFROM:+0200
TZOFFSETTO:+0100
TZNAME:CET
END:STANDARD
END:VTIMEZONE
END:VCALENDAR