BEGIN:VCALENDAR
VERSION:2.0
PRODID:-//wp-events-plugin.com//7.2.3.1//EN
TZID:Europe/Berlin
X-WR-TIMEZONE:Europe/Berlin
BEGIN:VEVENT
UID:5604@lilabi.net
DTSTART;TZID=Europe/Berlin:20240408T180000
DTEND;TZID=Europe/Berlin:20240408T200000
DTSTAMP:20240321T182117Z
URL:https://www.lilabi.net/events/nora-hespers-mein-opa-sein-widerstand-ge
 gen-die-nazis-unch-ich/
SUMMARY:Nora Hespers: Mein Opa\, sein Widerstand gegen die Nazis unch ich
DESCRIPTION:Nora Hespers wächst mit vielen Geschichten über ihren Opa auf
 : den Widerstandskämpfer Theo Hespers\, der von den Nazis gejagt und hing
 erichtet wurde.   .....\n\nJahre später\, Nora Hespers arbeitet inzwiche
 n als freie Journalistin für Hörfunk und TV\, wird sie wieder mit ihrem 
 Großvater konfrontiert. ...\n\nFür Nora Hespers ist es der Startpunkt\, 
 sich mit der Geschichte ihres Opas auseinander zusetzen. Doch was kann man
  aus dem Widerstand damals für heute lernen?
CATEGORIES:Lesung
LOCATION:Jugendzentrum Kamp\, Niedermühlenkamp 43\, 33604 Bielefeld\, Deut
 schland
X-APPLE-STRUCTURED-LOCATION;VALUE=URI;X-ADDRESS=Niedermühlenkamp 43\, 3360
 4 Bielefeld\, Deutschland;X-APPLE-RADIUS=100;X-TITLE=Jugendzentrum Kamp:ge
 o:0,0
END:VEVENT
BEGIN:VTIMEZONE
TZID:Europe/Berlin
X-LIC-LOCATION:Europe/Berlin
BEGIN:DAYLIGHT
DTSTART:20240331T030000
TZOFFSETFROM:+0100
TZOFFSETTO:+0200
TZNAME:CEST
END:DAYLIGHT
END:VTIMEZONE
END:VCALENDAR