BEGIN:VCALENDAR
VERSION:2.0
PRODID:-//wp-events-plugin.com//7.2.3.1//EN
TZID:Europe/Berlin
X-WR-TIMEZONE:Europe/Berlin
BEGIN:VEVENT
UID:4892@lilabi.net
DTSTART;TZID=Europe/Berlin:20231215T200000
DTEND;TZID=Europe/Berlin:20231215T200000
DTSTAMP:20231213T144155Z
URL:https://www.lilabi.net/events/naturtrueb-releaseparty/
SUMMARY:Naturtrüb Releaseparty
DESCRIPTION:Wir feiern die Veröffentlichung unseres dritten Magazins: Einl
 ass und Getränke gibt es gegen Spende.\n\nTanzperformance Connecting Mini
 s\, Ausstellung zum Magazin\, Kunst Kiosk\, DJ Sets: Mila SJ\, La Gatinha\
 , Hypermobil
ATTACH;FMTTYPE=image/jpeg:https://www.lilabi.net/wp-content/uploads/2023/1
 2/naturtrueb_flyer2.jpg
CATEGORIES:Ausstellung,Buchvorstellung,Party
LOCATION:Kulturhaus Bielefeld\, Werner-Bock-Straße 34c\, Bielefeld\, Deuts
 chland
X-APPLE-STRUCTURED-LOCATION;VALUE=URI;X-ADDRESS=Werner-Bock-Straße 34c\, B
 ielefeld\, Deutschland;X-APPLE-RADIUS=100;X-TITLE=Kulturhaus Bielefeld:geo
 :0,0
END:VEVENT
BEGIN:VTIMEZONE
TZID:Europe/Berlin
X-LIC-LOCATION:Europe/Berlin
BEGIN:STANDARD
DTSTART:20231029T020000
TZOFFSETFROM:+0200
TZOFFSETTO:+0100
TZNAME:CET
END:STANDARD
END:VTIMEZONE
END:VCALENDAR