BEGIN:VCALENDAR
VERSION:2.0
PRODID:-//wp-events-plugin.com//7.2.3.1//EN
TZID:Europe/Berlin
X-WR-TIMEZONE:Europe/Berlin
BEGIN:VEVENT
UID:4843@lilabi.net
DTSTART;TZID=Europe/Berlin:20231125T200000
DTEND;TZID=Europe/Berlin:20231125T235500
DTSTAMP:20231026T081159Z
URL:https://www.lilabi.net/events/metal-bar-2/
SUMMARY:METAL BAR
DESCRIPTION:again it's metal-bar!\n\ncome around for some cold beers\, spic
 y snacks and chosen metal hits that roar in the dirty corner of the ajz fr
 om under the thunder dome.
ATTACH;FMTTYPE=image/jpeg:https://www.lilabi.net/wp-content/uploads/2023/1
 0/23.11-net.jpg
LOCATION:AJZ Bielefeld\, Heeper Str. 132\, 33607 Bielefeld\, Deutschland
X-APPLE-STRUCTURED-LOCATION;VALUE=URI;X-ADDRESS=Heeper Str. 132\, 33607 Bie
 lefeld\, Deutschland;X-APPLE-RADIUS=100;X-TITLE=AJZ Bielefeld:geo:0,0
END:VEVENT
BEGIN:VTIMEZONE
TZID:Europe/Berlin
X-LIC-LOCATION:Europe/Berlin
BEGIN:STANDARD
DTSTART:20231029T020000
TZOFFSETFROM:+0200
TZOFFSETTO:+0100
TZNAME:CET
END:STANDARD
END:VTIMEZONE
END:VCALENDAR