BEGIN:VCALENDAR
VERSION:2.0
PRODID:-//wp-events-plugin.com//7.2.3.1//EN
TZID:Europe/Berlin
X-WR-TIMEZONE:Europe/Berlin
BEGIN:VEVENT
UID:6436@lilabi.net
DTSTART;TZID=Europe/Berlin:20251101T183000
DTEND;TZID=Europe/Berlin:20251101T200000
DTSTAMP:20251016T154731Z
URL:https://www.lilabi.net/events/mehr-licht-mit-literatur-gegen-rassismus
 -und-fuer-ein-schoenes-leben/
SUMMARY:Mehr Licht! Mit Literatur gegen Rassismus und für ein schönes Leb
 en
DESCRIPTION:Unter dem Titel „Mehr Licht!“ veranstaltet die Villa Kunter
 bunt in Bünde eine Lesung gegen Rassismus mit der Herforder AutorInnen-Gr
 uppe. Die Lesung findet statt anlässlich des 9. November 1938\, an dem de
 r nationalsozialistische Terror gegen jüdische Mitbürger*innen einen vor
 läufigen Höhepunkt fand. \n\nErklärtes Ziel der Herforder AutorInnen-Gr
 uppe war es von Anfang an\, nicht nur Literatur um ihrer selbst willen zu 
 schaffen\, sondern der Idee zu folgen\, dass Kunst (und das gilt auch für
  die Literatur) das Bemühen sei\, „neben der wirklichen Welt eine mensc
 hlichere zu schaffen“ (André Maurois). In diesem Sinne hat die Gruppe z
 ahlreiche literarische Lesungen im ostwestfälischen Raum gegen Rassismus 
 und stattdessen für Vielfalt\, Menschenrechte und ein gleichberechtigtes 
 Miteinander durchgeführt. Mit dabei ist Michael Helm\, versierter Autor v
 on Kurzprosa sowie kreativer Gestalter und Rezitator von Lesungen\, in den
 en er die Stimme als prägendes Element von Literatur begreift. Helm ist M
 itautor des Buches „Wir freuen uns und wir weinen“ zum Wiederaufbau de
 r Herforder Synagoge. Feinsinnig und leise kommt die Lyrik des Herforder A
 utors Artur Rosenstern daher\, der unter anderem den Literaturpreis der K
 ünstlergilde Esslingen gewann. Rosensterns subtile Gedichte öffnen den V
 erstand für Nichtalltägliches\, besonders aber für das\, was in den Hin
 tergrund gedrängt wird und nach Sprache verlangt. Die Lyrik von Petra Cze
 rnitzki hingegen überschreibt den Alltag mit Satire und setzt auf das bes
 chwingte Wortspiel\, mit dem sie zielsicher den Widrigkeiten unserer Gewoh
 nheiten nachspürt. Satirisch sind auch die Kurzgeschichten von Nicolas Br
 öggelwirth\, angetrieben von einer gutartigen Bösartigkeit\, die unläng
 st sogar auf der Netzseite des Österreichischen Rundfunks zu hören war. 
 Auf andere Weise prägnant sind die Texte des regional bekannten Historike
 rs Norbert Sahrhage\, der in seinen Kriminalromanen lokal-historische Bege
 benheiten verarbeitet. Sahrhage liest aus seinem Roman „Kieslich muss st
 erben“\, in dem es unter anderem um die Pogromnacht in Bünde geht. Eind
 ringlich sind auch die Texte von Ralf Burnicki\, der für seine bildhafte 
 und zugleich gesellschaftskritische Prosadichtung von der Gesellschaft fü
 r neue Literatur (NGL Berlin) als „Erbe Orwells“ ausgelobt wurde. Vehe
 ment richten sich Burnickis Gedichte gegen Autoritarismus und gegen das Ve
 rdrängen der deutschen Geschichte.\n\nDie Zuhörerschaft erwartet ein vie
 lseitiges Literaturereignis\, das zum Nachdenken anregt. Denn für die Gru
 ppe geht es in der Literatur auch darum\, die Perspektive eines schönen L
 ebens zu fördern. Der Eintritt ist frei (eine Spende für die Arbeit des 
 Jugendzentrums ist erwünscht).\n\nLesung am Samstag\, den 1. November\, 1
 8.30 Uhr (Einlass 18.00 Uhr)\n\nOrt: Villa Kunterbunt\, Kaiser-Wilhelmstr.
  2 (1. Etage)\, 32257 Bünde.\n\nEintritt frei (Spende für das Jugendzent
 rum erwünscht)
ATTACH;FMTTYPE=image/jpeg:https://www.lilabi.net/wp-content/uploads/2025/1
 0/Plakat-Mehr-Licht-Villa_HAG-900x600-1.jpg
CATEGORIES:Lesung
LOCATION:Jugendzentrum Villa Kunterbunt\, Kaiser-Wilhelm-Str. 2\, 32257 Bü
 nde\, Deutschland
X-APPLE-STRUCTURED-LOCATION;VALUE=URI;X-ADDRESS=Kaiser-Wilhelm-Str. 2\, 322
 57 Bünde\, Deutschland;X-APPLE-RADIUS=100;X-TITLE=Jugendzentrum Villa Kun
 terbunt:geo:0,0
END:VEVENT
BEGIN:VTIMEZONE
TZID:Europe/Berlin
X-LIC-LOCATION:Europe/Berlin
BEGIN:STANDARD
DTSTART:20251026T020000
TZOFFSETFROM:+0200
TZOFFSETTO:+0100
TZNAME:CET
END:STANDARD
END:VTIMEZONE
END:VCALENDAR