BEGIN:VCALENDAR
VERSION:2.0
PRODID:-//wp-events-plugin.com//7.2.3.1//EN
TZID:Europe/Berlin
X-WR-TIMEZONE:Europe/Berlin
BEGIN:VEVENT
UID:3734@lilabi.net
DTSTART;TZID=Europe/Berlin:20220604T190000
DTEND;TZID=Europe/Berlin:20220604T203000
DTSTAMP:20220529T215341Z
URL:https://www.lilabi.net/events/mehr-licht-lesung-in-der-herforder-geden
 kstaette-zellentrakt/
SUMMARY:Mehr Licht! - Lesung in der Herforder Gedenkstätte Zellentrakt
DESCRIPTION:„Mehr Licht!“ betitelt die Herforder AutorInnen-Gruppe ihre
  Lesung in der Herforder Gedenkstätte Zellentrakt am 04. Juni und liest g
 egen Antisemitismus und Rassismus und für ein schönes Leben. \nLesen wir
 d der Autor Norbert Sahrhage aus Spenge. Norbert Sahrhage ist Historiker u
 nd dem Publikum durch seine Forschungen zur regionalen Geschichte wie auch
  durch seine Kriminalromane bekannt\, in denen er lokal-historische Begebe
 nheiten mit kriminalistischer Erzählkunst verbindet. Ebenfalls dabei ist 
 der mit dem Bürgermedienpreis NRW ausgezeichnete Schriftsteller und Rezit
 ator Michael Helm. Michael Helm stellt unter anderem Interview-Passagen vo
 n Mitgliedern der Jüdischen Gemeinde vor\, liest aus ihrem Leben zu Zeite
 n der Zerstörung der alten Synagoge und von der Freude am Wiederaufbau de
 r neuen Herforder Synagoge. Artur Rosenstern\, Herforder Autor und Verlege
 r\, ist in mehreren literarischen Genres zu Hause. Er schreibt feinsinnige
  Lyrik\, dazu Prosa und Romane und beschäftigt sich immer wieder mit Frem
 dsein als Chance für neue Perspektiven. Aus Berlin reist Christine Zeides
  an\, aufgewachsen in Bünde und ein Multitalent in Sachen Wortkunst\, Fot
 ografie und Malerei. Ihre poetische Performance ist ein eindrückliches Er
 eignis\, wenn sie sich dem Thema Angst und Sicherheitsverlangen widmet. Eb
 enfalls aus Bünde kommt der Autor Nicolas Bröggelwirth\, der in seinen K
 urzgeschichten das Leben augenzwinkernd aufs Korn nimmt. Bröggelwirth arb
 eitet als Journalist und wurde mit dem Hörfunkpreis »Bobby« der Landesa
 nstalt für Rundfunk und der Deutschen Hörfunkakademie ausgezeichnet. Mit
  dabei ist auch Ralf Burnicki\, Anarchopoet\, Lehrkraft für Philosophie u
 nd für seine bildhafte und zugleich gesellschaftskritische Prosadichtung 
 von der Gesellschaft für neue Literatur (NGL Berlin) als „Erbe Orwells
 “ ausgelobt. Ralf Burnicki liest Gedichte\, die sich unter anderem gegen
  das Verdrängen der deutschen Geschichte wenden. \nDie Zuhörerschaft erw
 artet mithin ein kreatives und vielseitiges Literaturereignis\, das zum Na
 chdenken anregt\, aber auch unterhaltsam ist\, denn es geht der Literatur 
 auch darum\, das Leben ein wenig zu feiern. Der Eintritt ist frei. 
ATTACH;FMTTYPE=image/jpeg:https://www.lilabi.net/wp-content/uploads/2022/0
 5/Gruppenfoto5_174KB.jpg
CATEGORIES:Lesung
LOCATION:Gedenkstätte Zellentrakt\, Rathausplatz 1\, Herford\, NRW\, 32052
 \, OWL\, Deutschland
X-APPLE-STRUCTURED-LOCATION;VALUE=URI;X-ADDRESS=Rathausplatz 1\, Herford\, 
 NRW\, 32052\, OWL\, Deutschland;X-APPLE-RADIUS=100;X-TITLE=Gedenkstätte Z
 ellentrakt:geo:0,0
END:VEVENT
BEGIN:VTIMEZONE
TZID:Europe/Berlin
X-LIC-LOCATION:Europe/Berlin
BEGIN:DAYLIGHT
DTSTART:20220327T030000
TZOFFSETFROM:+0100
TZOFFSETTO:+0200
TZNAME:CEST
END:DAYLIGHT
END:VTIMEZONE
END:VCALENDAR