BEGIN:VCALENDAR
VERSION:2.0
PRODID:-//wp-events-plugin.com//7.2.3.1//EN
TZID:Europe/Berlin
X-WR-TIMEZONE:Europe/Berlin
BEGIN:VEVENT
UID:4374@lilabi.net
DTSTART;TZID=Europe/Berlin:20220814T153000
DTEND;TZID=Europe/Berlin:20220814T153000
DTSTAMP:20220725T185821Z
URL:https://www.lilabi.net/events/live-theoradicals-tigrrez-punch-tba/
SUMMARY:LIVE: Theoradicals + Tigrrez Punch + tba.
DESCRIPTION:\nQUEERLAUT PRÄSENTIERT:\n\n\n\nqueer feministischer Hip Hop/ 
 Trap\n\nmit Theoradicals\, Tigrrez Punch + tba.\n\nWann? 14. August 2022
 \, Einlass 15.30 Uhr\, Beginn 16.00 Uhr\n\nWo? AJZ Bielefeld\, Heeper Str
 aße 132\, Bielefeld\n\nHörproben und mehr Infos:\n\nhttps://linktr.ee/th
 eoradicals\nhttps://linktr.ee/Tigrrezpunch\n\n
ATTACH;FMTTYPE=image/jpeg:https://www.lilabi.net/wp-content/uploads/2022/0
 7/a2088621805_10.jpg
CATEGORIES:Konzert
LOCATION:AJZ Bielefeld\, Heeper Str. 132\, 33607 Bielefeld\, Deutschland
X-APPLE-STRUCTURED-LOCATION;VALUE=URI;X-ADDRESS=Heeper Str. 132\, 33607 Bie
 lefeld\, Deutschland;X-APPLE-RADIUS=100;X-TITLE=AJZ Bielefeld:geo:0,0
END:VEVENT
BEGIN:VTIMEZONE
TZID:Europe/Berlin
X-LIC-LOCATION:Europe/Berlin
BEGIN:DAYLIGHT
DTSTART:20220327T030000
TZOFFSETFROM:+0100
TZOFFSETTO:+0200
TZNAME:CEST
END:DAYLIGHT
END:VTIMEZONE
END:VCALENDAR