BEGIN:VCALENDAR
VERSION:2.0
PRODID:-//wp-events-plugin.com//7.2.3.1//EN
TZID:Europe/Berlin
X-WR-TIMEZONE:Europe/Berlin
BEGIN:VEVENT
UID:4481@lilabi.net
DTSTART;TZID=Europe/Berlin:20221215T181500
DTEND;TZID=Europe/Berlin:20221215T220000
DTSTAMP:20221205T160036Z
URL:https://www.lilabi.net/events/linux-install-party/
SUMMARY:Linux-Install-Party
DESCRIPTION:Aktuelle Infos: https://digitalcourage.de/blog/2022/linux-insta
 ll-party-bielefeld-dezember\n\n\nEndlich Linux kennenlernen! Am kommenden 
 Donnerstag habt ihr an der Universität Bielefeld die Gelegenheit\, mit an
 deren Linux-Benutzer.innen eine von vielen Linux-Distributionen als freie 
 Alternative zu den Betriebssystemen Microsoft Windows und Apple macOS ausz
 uprobieren und auch zu installieren – auf Wunsch auch neben Windows.\n\n
 \n\nVeranstaltungsdetails\n\n 	Wann? Donnerstag\, 15. Dezember 2022\, 18:1
 5–22:00 Uhr.\n 	Wo? UHG Raum U2-205\, Universität Bielefeld\, Universit
 ätsstraße 25\, 33615 Bielefeld.\n 	Mitbringen: Fragen\, Freunde und den 
 eigenen Laptop/Rechner.\n 	Eintritt kostenfrei!\n\n\n\nFreie Software\nDu 
 hast keine Lust\, von Microsoft oder Apple abhängig zu sein? Du möchtest
  deinen alten Computer weiterbenutzen\, aber ein aktuelles Windows willst 
 oder kannst du auf dem Gerät nicht betreiben? Du willst einen zuverlässi
 gen und sicheren Computer? Du bist für Meinungsfreiheit\, Datenschutz\, o
 ffene Standards und Emanzipation? Dies sind nur ein paar von vielen guten 
 Gründen freie Software und insbesondere Linux als freies Betriebssystem a
 uf dem eigenen Rechner zu nutzen.\n\n\n\nLinux-Install-Party\nAuf der Linu
 x-Install-Party werden wir in einem kurzen Vortrag verschiedene Versionen 
 von GNU/Linux vorstellen und einiges zu freier Software erklären. Anschli
 eßend kannst du durch unsere Multi-Boot-USB-Sticks (ohne Installation!) a
 usprobieren\, welche Linux-Versionen auf deinem Computer funktionieren und
  dir am besten gefallen.\n\nWenn du dich schon entschieden hast\, deine Da
 ten gesichert sind und bereits mindestens 20 GB auf deiner Festplatte frei
  sind\, dann können wir dir – trotz des knappen zeitlichen Rahmens – 
 gerne bei der Installation behilflich sein. Es ist auch möglich\, Linux p
 arallel zu Windows zu installieren\, so dass bei jedem Systemstart gewähl
 t werden kann.\n\nJede interessierte Person ist herzlich eingeladen. Die V
 eranstaltung richtet sich primär an Linux-Anfänger.innen. Selbstverstän
 dlich ist auch eine Teilnahme ohne eigenen Laptop möglich.\n\nWir empfehl
 en im Falle einer Installation ausdrücklich\, vor der Veranstaltung eine 
 Sicherung der wichtigsten Daten oder des kompletten Systems vorzunehmen\, 
 z. B. mit Rescuezilla.\n\n
ATTACH;FMTTYPE=image/jpeg:https://www.lilabi.net/wp-content/uploads/2022/1
 2/LinuxInstallParty_2022-12_lilabi.png
CATEGORIES:DIY,Sonstiges,Workshop
LOCATION:UHG U2-205 (Universität Bielefeld)\,  Universitätsstraße 25\, B
 ielefeld\, 33615\, Deutschland
X-APPLE-STRUCTURED-LOCATION;VALUE=URI;X-ADDRESS= Universitätsstraße 25\, 
 Bielefeld\, 33615\, Deutschland;X-APPLE-RADIUS=100;X-TITLE=UHG U2-205 (Uni
 versität Bielefeld):geo:0,0
END:VEVENT
BEGIN:VTIMEZONE
TZID:Europe/Berlin
X-LIC-LOCATION:Europe/Berlin
BEGIN:STANDARD
DTSTART:20221030T020000
TZOFFSETFROM:+0200
TZOFFSETTO:+0100
TZNAME:CET
END:STANDARD
END:VTIMEZONE
END:VCALENDAR