BEGIN:VCALENDAR
VERSION:2.0
PRODID:-//wp-events-plugin.com//7.2.3.1//EN
TZID:Europe/Berlin
X-WR-TIMEZONE:Europe/Berlin
BEGIN:VEVENT
UID:6408@lilabi.net
DTSTART;TZID=Europe/Berlin:20251019T153000
DTEND;TZID=Europe/Berlin:20251019T190000
DTSTAMP:20251006T124547Z
URL:https://www.lilabi.net/events/linux-install-party-3/
SUMMARY:Linux Install Party
DESCRIPTION:\n\n\nAuf so gut wie jedem PC ist derzeit das Betriebssystem Mi
 crosoft Windows vorinstalliert. Der wachsende Datenhunger von Microsoft so
 wie das Ende des Supportzeitraumes von Windows 10 in diesem Jahr liefert a
 ber immer mehr gute Gründe\, sich nach einer Alternative umzusehen.\n\nIn
 sbesondere älteren Rechnern – bei denen Microsoft schlicht ein Neugerä
 t empfiehlt – kann GNU/Linux neues Leben einhauchen und damit digitale T
 eilhabe sicherstellen.\n\nWir bereiten bootbare USB-Sticks vor\, auf denen
  verschiedene Linux-Distributionen zum unverbindlichen Ausprobieren bereit
 stehen.\n\nDie Veranstaltung geht von 15:30 bis 19 Uhr. Es ist nicht notwe
 ndig\, dass ihr direkt um 15:30 Uhr erscheint\, und den gesamten Zeitraum 
 da bleibt. Damit wir euch aber effektiv unterstützen können wäre es hil
 freich\, wenn ihr spätestens um 18 Uhr mit eurem Gerät vor Ort seid.\n\n
 Wichtig: Wenn ihr Fragen zu oder Probleme mit einer bestehenden Linux-Inst
 allation habt\, können wir euch an diesem Abend leider nicht helfen!\n\nE
 ine formlose Anmeldung per E-Mail an post@datenpunks.de hilft uns bei de
 r Planung.\n\nDie Veranstaltung ist kostenlos\, eine Spendendose ist vor O
 rt vorhanden.\n\n\n
ATTACH;FMTTYPE=image/jpeg:https://www.lilabi.net/wp-content/uploads/2025/1
 0/photo_2025-06-03_15-21-50.jpg
CATEGORIES:DIY,Workshop
LOCATION:Bürgerwache Siegfriedplatz Saal\, Rolandstraße 16\, 33615 bielef
 eld\, nrw\, 33615\, Deutschland
X-APPLE-STRUCTURED-LOCATION;VALUE=URI;X-ADDRESS=Rolandstraße 16\, 33615 bi
 elefeld\, nrw\, 33615\, Deutschland;X-APPLE-RADIUS=100;X-TITLE=Bürgerwach
 e Siegfriedplatz Saal:geo:0,0
END:VEVENT
BEGIN:VTIMEZONE
TZID:Europe/Berlin
X-LIC-LOCATION:Europe/Berlin
BEGIN:DAYLIGHT
DTSTART:20250330T030000
TZOFFSETFROM:+0100
TZOFFSETTO:+0200
TZNAME:CEST
END:DAYLIGHT
END:VTIMEZONE
END:VCALENDAR