BEGIN:VCALENDAR
VERSION:2.0
PRODID:-//wp-events-plugin.com//7.2.3.1//EN
TZID:Europe/Berlin
X-WR-TIMEZONE:Europe/Berlin
BEGIN:VEVENT
UID:5758@lilabi.net
DTSTART;TZID=Europe/Berlin:20240908T140000
DTEND;TZID=Europe/Berlin:20240908T180000
DTSTAMP:20240822T091321Z
URL:https://www.lilabi.net/events/links-leben-mit-kindern/
SUMMARY:Links leben mit Kindern
DESCRIPTION:Patriarchat auflösen!\nKleinfamilie überwinden!\nReproduktion
 sarbeit teilen! Care-Revolution! Geht es um das Thema Kinder\, fallen in l
 inken Zusammenhängen häufig Schlagworte wie diese.\nEinige Menschen vers
 uchen tatsächlich\, diese politische Vision konkret in ihrem Alltag umzus
 etzen: in Freundschaften\, Hausprojekten\, Wohngemeinschaften oder Teilfam
 ilien. Es gibt zahlreiche Erfahrungen mit gescheiterten\, aber auch gelung
 enen Versuchen\, mit Kindern in Gemeinschaft zu leben oder die Beziehung z
 u ihnen jenseits klassischer Eltern-Kind-Verhältnisse zu gestalten.\nDies
 e Erfahrungen zwischen politischem Anspruch und alltäglicher Realität ko
 mmen im Buch in ihrer Vielstimmigkeit zum Ausdruck – mit dem Ziel\, weit
 er gemeinsam für eine gesellschaftliche Utopie zu kämpfen\, in der niema
 nd allein mit Kind zurückbleibt. Wir wollen mit den Autor*innen\, aber vo
 r allem auch miteinander diskutieren.\nWährend der Veranstaltung bieten w
 ir eine Kinderbetreuung an
ATTACH;FMTTYPE=image/jpeg:https://www.lilabi.net/wp-content/uploads/2024/0
 8/2024-09-LinksLebenmitKindern_v3.jpg
LOCATION:AJZ Bielefeld\, Heeper Str. 132\, 33607 Bielefeld\, Deutschland
X-APPLE-STRUCTURED-LOCATION;VALUE=URI;X-ADDRESS=Heeper Str. 132\, 33607 Bie
 lefeld\, Deutschland;X-APPLE-RADIUS=100;X-TITLE=AJZ Bielefeld:geo:0,0
END:VEVENT
BEGIN:VTIMEZONE
TZID:Europe/Berlin
X-LIC-LOCATION:Europe/Berlin
BEGIN:DAYLIGHT
DTSTART:20240331T030000
TZOFFSETFROM:+0100
TZOFFSETTO:+0200
TZNAME:CEST
END:DAYLIGHT
END:VTIMEZONE
END:VCALENDAR