BEGIN:VCALENDAR
VERSION:2.0
PRODID:-//wp-events-plugin.com//7.2.3.1//EN
TZID:Europe/Berlin
X-WR-TIMEZONE:Europe/Berlin
BEGIN:VEVENT
UID:2347@lilabi.net
DTSTART;TZID=Europe/Berlin:20190518T170000
DTEND;TZID=Europe/Berlin:20190518T183000
DTSTAMP:20190511T095117Z
URL:https://www.lilabi.net/events/lina-atfah-das-buch-von-der-fehlenden-an
 kunft-lyrische-lesung/
SUMMARY:Lina Atfah - Das Buch von der fehlenden Ankunft - Lyrische Lesung
DESCRIPTION:Wir freuen uns Ihnen eine junge\, politische Stimme aus Syrien 
 vorstellen zu dürfen! Bei Fingerfood und Getränken lauschen wir gemeinsa
 m den Gedichten von Lina Atfah\, auf arabisch und dann in der deutschen Ü
 bersetzung.\n\n"Ihre Gedichte gleichen einem traumwandlerischen Tanz auf e
 iner Rasierklinge: Hier Verse\, die in präziser Bildhaftigkeit wie Schnap
 pschüsse ihren Fokus auf die zerrissene Heimat Syrien richten\, auf Fluch
 t\, Vertreibung und Verbrechen. Dort sinnliche Gedichte\, die vollgesogen 
 sind von allerlei arabischen Mythen und Geschichten. Und über alldem: ein
 e junge poetische Stimme\, die in ihrem Anspielungsreichtum ihresgleichen 
 sucht."
ATTACH;FMTTYPE=image/jpeg:https://www.lilabi.net/wp-content/uploads/2019/0
 5/9783865326416-122x183.jpg
CATEGORIES:Lesung
LOCATION:Mondo Buchhandlung\, Elsa-Brandström-Str. 23 \, Bielelefeld\, 336
 02 \, Deutschland
X-APPLE-STRUCTURED-LOCATION;VALUE=URI;X-ADDRESS=Elsa-Brandström-Str. 23 \,
  Bielelefeld\, 33602 \, Deutschland;X-APPLE-RADIUS=100;X-TITLE=Mondo Buchh
 andlung:geo:0,0
END:VEVENT
BEGIN:VTIMEZONE
TZID:Europe/Berlin
X-LIC-LOCATION:Europe/Berlin
BEGIN:DAYLIGHT
DTSTART:20190331T030000
TZOFFSETFROM:+0100
TZOFFSETTO:+0200
TZNAME:CEST
END:DAYLIGHT
END:VTIMEZONE
END:VCALENDAR