BEGIN:VCALENDAR
VERSION:2.0
PRODID:-//wp-events-plugin.com//7.2.3.1//EN
TZID:Europe/Berlin
X-WR-TIMEZONE:Europe/Berlin
BEGIN:VEVENT
UID:4881@lilabi.net
DTSTART;TZID=Europe/Berlin:20231106T193000
DTEND;TZID=Europe/Berlin:20231106T220000
DTSTAMP:20231106T102440Z
URL:https://www.lilabi.net/events/liebe-d-mark-und-tod-musikkultur-von-mig
 rantinnen-aus-der-tuerkei/
SUMMARY:Liebe\, D-Mark und Tod. Musikkultur von Migrant*innen aus der Türk
 ei
DESCRIPTION:»Aşk\, Mark ve Ölüm« – Liebe\, D-Mark und Tod ist ein Do
 kumentarfilm von Cem Kaya aus dem Jahr 2022. Er erzählt die 60-jährige M
 usikkultur von Migrant*innen aus der Türkei in Deutschland. Im Film komme
 n unter anderen Gurbetçi-Lieder (Lieder aus der Fremde) von Yüksel Özka
 sap oder Aşık Metin Türköz vor. Auch zahlreiche Musiker*innen der zwei
 ten und dritten Generation\, die in Deutschland aufgewachsen sind\, portr
 ätiert der Film\, wie zum Beispiel »Fresh Familee« oder »King Size Ter
 ror«. Aşık Metin Türköz beispielsweise war ein Arbeiter bei Ford in K
 öln\, der nebenbei Lieder schrieb. Seine Lieder aus der damaligen Zeit\, 
 die 1970er\, waren ein Kommentar zu den damaligen Verhältnissen. Im Lied 
 erzähle er von überfüllten Zimmern\, Strohmatratzen und widrigen Arbeit
 sumständen. Der Film verschafft einen spannenden Einblick in eine popkult
 urelle Welt\, die die Mainstream-Medien in Deutschland gekonnt jahrzehntel
 ang ignorierten\, auch ein Ausdruck von strukturellem Rassimus. Vier Jahre
  lang hat Regisseur Cem Kaya die Fernseharchive durchgearbeitet\, um alle 
 Aufnahmen für diesen 96-minütigen Film zusammen zu bekommen. Der Film er
 hielt zahlreiche Preise\, unter anderem den Panorama-Publikumspreise auf d
 er Berlinale 2022.\nAbgerundet wird der Filmabend durch Live-Musik des Mul
 tiinstrumentalisten und Komponisten Eren Akşahin.\nDieser Film wird im Ra
 hmen der 17. Herforder Filmtage im Kreis Herford gezeigt. Dieses Jahr steh
 en sie unter dem Motto "übergreifen". Weitere Informationen bei Arbeit un
 d Leben im Kreis Herford\nFilmpartner*innen // Mobile Beratung gegen Recht
 sextremismus im Regierungsbezirk Detmold. Die Mobile Beratung bietet Berat
 ung\, Qualifizierung und Begleitung für die Themenbereiche Rechtsextremis
 mus und Rassismus in ganz OWL.\nwww.mbr-owl.de\nFachstelle NRWeltoffen Die
  Fachstelle NRWeltoffen unterstützt zivilgesellschaftliche Initiativen\, 
 Institutionen &amp\; Projekte im Kreis Herford bei der Auseinandersetzung 
 mit Rechtsextremismus und Rassismus.\nwww.gegenrechts.info
CATEGORIES:Film,Konzert
LOCATION:Capitol Kino Herford\, Elisabethstraße 1A\, Herford\, NRW\, 32052
 \, Kreis Herford\, Deutschland
X-APPLE-STRUCTURED-LOCATION;VALUE=URI;X-ADDRESS=Elisabethstraße 1A\, Herfo
 rd\, NRW\, 32052\, Kreis Herford\, Deutschland;X-APPLE-RADIUS=100;X-TITLE=
 Capitol Kino Herford:geo:0,0
END:VEVENT
BEGIN:VTIMEZONE
TZID:Europe/Berlin
X-LIC-LOCATION:Europe/Berlin
BEGIN:STANDARD
DTSTART:20231029T020000
TZOFFSETFROM:+0200
TZOFFSETTO:+0100
TZNAME:CET
END:STANDARD
END:VTIMEZONE
END:VCALENDAR