BEGIN:VCALENDAR
VERSION:2.0
PRODID:-//wp-events-plugin.com//7.2.3.1//EN
TZID:Europe/Berlin
X-WR-TIMEZONE:Europe/Berlin
BEGIN:VEVENT
UID:3394@lilabi.net
DTSTART;TZID=Europe/Berlin:20230303T190000
DTEND;TZID=Europe/Berlin:20230303T210000
DTSTAMP:20200712T084817Z
URL:https://www.lilabi.net/events/libertaerer-lesekreis-2023-03-03/
SUMMARY:Libertärer Lesekreis
DESCRIPTION:Jeden 1. und 3. Freitag im Monat ab 19.00 Uhr lesen wir uns gem
 einsam ausgesuchte Sachtexte aus Zeitungen\, Zeitschriften oder wissenscha
 ftlichen Veröffentlichungen vor und diskutieren dann im Anschluss darübe
 r.\n\nDen aktuellen Text findet Ihr immer auf unserer Homepage:\n\nhttp://
 bielefeld.fau.org/libertaerer-lesekreis/\n\nKommt gerne vorbei und lest mi
 t uns! Wir freuen uns auf Euch!\n\nEURE FAU BIELEFELD
ATTACH;FMTTYPE=image/jpeg:https://www.lilabi.net/wp-content/uploads/2020/0
 7/Libertärer-Lesekreis-Logo.jpg
LOCATION:FAU-Lokal\, Metzer Straße 20\, Bielefeld\, Deutschland
X-APPLE-STRUCTURED-LOCATION;VALUE=URI;X-ADDRESS=Metzer Straße 20\, Bielefe
 ld\, Deutschland;X-APPLE-RADIUS=100;X-TITLE=FAU-Lokal:geo:0,0
END:VEVENT
BEGIN:VTIMEZONE
TZID:Europe/Berlin
X-LIC-LOCATION:Europe/Berlin
BEGIN:STANDARD
DTSTART:20221030T020000
TZOFFSETFROM:+0200
TZOFFSETTO:+0100
TZNAME:CET
END:STANDARD
END:VTIMEZONE
END:VCALENDAR