BEGIN:VCALENDAR
VERSION:2.0
PRODID:-//wp-events-plugin.com//7.2.3.1//EN
TZID:Europe/Berlin
X-WR-TIMEZONE:Europe/Berlin
BEGIN:VEVENT
UID:5784@lilabi.net
DTSTART;TZID=Europe/Berlin:20241010T190000
DTEND;TZID=Europe/Berlin:20241010T220000
DTSTAMP:20240930T091155Z
URL:https://www.lilabi.net/events/lesung/
SUMMARY:Lesung
DESCRIPTION:Das Stadtteilzentrum Bürgerwache lädt zu einer besonderen Les
 ung ein. \n\nAutorinnen und Autoren des Literaturmagazins ›Tentakel‹ l
 esen in der Bürgerwache \n\n \n»Erinnerungen« \n\nLyrik und Prosa-Lesun
 g. Es lesen: \n\n 	Eline Menke (Rheda-Widenbrück)\n 	Jan Brauns (Bielefel
 d)\n 	Christa Meier-Drave (Detmold)\n\nDie Lesung offeriert prägnante Tex
 te aus zwei Ausgaben des Literaturmagazins ›Tentakel‹ zum Themenfeld 
 »Erinnerungen«. Was behalten wir in Erinnerung? Und wie verarbeiten wir 
 Vergangenes? In einer weitgehend enträtselten Welt erscheinen die Themen 
 Gedächtnis und Bewusstsein ähnlich wie das Phänomen des Traumes als let
 zte Bastionen geheimnisvoller Humanität. Kaum etwas interessiert und fasz
 iniert uns an uns selbst und anderen mehr als die verschlungenen Pfade der
  Wahrnehmung und damit einhergehend der Erinnerung. Sie führen zu innerem
  Schmerz und zur inneren Freude\, zu Enttäuschung und Glück. Entsprechen
 d changieren die Autor*innen zwischen Melancholie\, Nostalgie\, stiller Af
 firmation und nachträglicher Auflehnung\; auch Mahnendes ist zu hören im
  Chor der verschiedenen Stimmen. \n\nTeilnehmen werden drei OWL-Autor*inne
 n aus den beiden Themenausgaben der Tenkakel zur »Erinnerung«\, die von 
 drei Redakteur*innen der ›Tentakel‹ anmoderiert werden. Letztere trage
 n in einem vierten Teil noch je einen eigenen Text zum Thema vor. Bei der 
 Lesung wird auch die neue Ausgabe der ›Tentakel‹ (Septemberausgabe) vo
 rgestellt.\nUnterstützt wird die Veranstaltung von der Gesellschaft zur F
 örderung der Literatur. \n\n 	Donnerstag\, den 10. Oktober\, 19.00 Uhr \n
  	Ort: Bürgerwache\, Rolandstr.16\, 33615 Bielefeld\, Saal (Raum 007\, EG
 .)Eintritt frei / Spende gern gesehen \n
ATTACH;FMTTYPE=image/jpeg:https://www.lilabi.net/wp-content/uploads/2024/0
 9/24-10-10-Plakat-Lesung-Erinnern-klein.jpg
CATEGORIES:Buchvorstellung,Lesung
LOCATION:Bürgerwache Siegfriedplatz Saal\, Rolandstraße 16\, 33615 bielef
 eld\, nrw\, 33615\, Deutschland
X-APPLE-STRUCTURED-LOCATION;VALUE=URI;X-ADDRESS=Rolandstraße 16\, 33615 bi
 elefeld\, nrw\, 33615\, Deutschland;X-APPLE-RADIUS=100;X-TITLE=Bürgerwach
 e Siegfriedplatz Saal:geo:0,0
END:VEVENT
BEGIN:VTIMEZONE
TZID:Europe/Berlin
X-LIC-LOCATION:Europe/Berlin
BEGIN:DAYLIGHT
DTSTART:20240331T030000
TZOFFSETFROM:+0100
TZOFFSETTO:+0200
TZNAME:CEST
END:DAYLIGHT
END:VTIMEZONE
END:VCALENDAR