BEGIN:VCALENDAR
VERSION:2.0
PRODID:-//wp-events-plugin.com//7.2.3.1//EN
TZID:Europe/Berlin
X-WR-TIMEZONE:Europe/Berlin
BEGIN:VEVENT
UID:4408@lilabi.net
DTSTART;TZID=Europe/Berlin:20221103T200000
DTEND;TZID=Europe/Berlin:20221103T223000
DTSTAMP:20220917T080308Z
URL:https://www.lilabi.net/events/lesung-und-musik-lebenstrunken-kahling-b
 laest-und-moellmann-liest/
SUMMARY:Lesung und Musik: Lebenstrunken - Kahling bläst und Möllmann lies
 t
DESCRIPTION:Lebenstrunken - Kahling bläst und Möllmann liest\nTrunkenheit
 \n\ntrunken: ‘berauscht\, betrunken’\, übertragen: ‘ganz erfüllt\,
  begeistert von etwas.’\n\nWer kennt das nicht? Das Gefühl\, von einer 
 Sache so eingenommen zu sein\, dass man glaubt man schwebe. Man ist glück
 lich\, erfüllt und geradezu besessen. Sei es nun\, wie in den meisten Fä
 llen\, vom Alkohol\, aber ebenso von der Liebe\, der Musik oder einer best
 immten Situation. Und dann folgt oft das böse Erwachen\, der Kater oder d
 ie Realität.\n\nBeides ist oft beschrieben oder besungen worden und wir w
 ollen uns auf die Suche nach Liedern\, Musik\, nach Erzählungen\, Geschic
 hten und Gedichten machen\, die das beschreiben\, ironisch\, poetisch\, ki
 tschig oder brutal.\n\nGunther Möllmann\, Regisseur und leidenschaftliche
 r Vorleser\, wohnt und lebt mit seiner Familie in Bielefeld. Er insziniert
 e und insziniert verschiedene Theaterstücke im deutschsprachigen Raum. An
 dreas Kaling traktiert seit Jahren sein Saxophon mit Luft und Händen. Lep
 tophonics\, Deep Schrott und viele andere Formationen können ein Lied dav
 on singen.\n\nBitte tragen Sie während der Veranstaltung Maske und testen
  Sie sich zuvor.
CATEGORIES:Lesung,Musik
LOCATION:Buchladen Eulenspiegel\, Hagenbruchstr. 7 \, Bielefeld\, Deutschla
 nd
X-APPLE-STRUCTURED-LOCATION;VALUE=URI;X-ADDRESS=Hagenbruchstr. 7 \, Bielefe
 ld\, Deutschland;X-APPLE-RADIUS=100;X-TITLE=Buchladen Eulenspiegel:geo:0,0
END:VEVENT
BEGIN:VTIMEZONE
TZID:Europe/Berlin
X-LIC-LOCATION:Europe/Berlin
BEGIN:STANDARD
DTSTART:20221030T020000
TZOFFSETFROM:+0200
TZOFFSETTO:+0100
TZNAME:CET
END:STANDARD
END:VTIMEZONE
END:VCALENDAR