BEGIN:VCALENDAR
VERSION:2.0
PRODID:-//wp-events-plugin.com//7.2.3.1//EN
TZID:Europe/Berlin
X-WR-TIMEZONE:Europe/Berlin
BEGIN:VEVENT
UID:5627@lilabi.net
DTSTART;TZID=Europe/Berlin:20240506T200000
DTEND;TZID=Europe/Berlin:20240506T200000
DTSTAMP:20240422T135302Z
URL:https://www.lilabi.net/events/lesung-und-gespraech-blumen-und-brandsae
 tze/
SUMMARY:Lesung und Gespräch: Blumen und Brandsätze
DESCRIPTION:Spätestens seit den 1980er Jahren erregt kaum etwas die Öffen
 tlichkeit so sehr wie die Frage\, wie viele und welche Menschen\, »die wi
 r nicht gerufen haben«\, Deutschland aufnehmen sollte. Klaus Neumann besc
 häftigt sich mit Antworten auf diese Frage: von Forderungen nach der Änd
 erung von Artikel 16 des Grundgesetzes in den frühen 1990er Jahren über 
 die sogenannte Willkommenskultur 2015 bis zur Neuauflage der Behauptung\, 
 das Boot sei voll\, nach der Ankunft von Geflüchteten aus der Ukraine 202
 2.\n\nDer Historiker untersucht die unterschiedlichen Motivationen\, Schut
 z zu gewähren oder Schutzsuchende abzuweisen. Im Mittelpunkt seiner Betra
 chtung stehen dabei lokale und lokalpolitische Auseinandersetzungen: im We
 sten Hamburgs und im südöstlichen Sachsen. Er macht anschaulich\, wie se
 hr Aushandlungsprozesse um die lokale Aufnahme von DDR-Übersiedler*innen 
 und Asylsuchenden\, Aussiedler*innen und Kriegsgeflüchteten verquickt war
 en mit Debatten über Rassismus und Rechtsextremismus\, demokratische Teil
 habe sowie west- und ostdeutsche Identitäten.\nIm Gespräch mit dem Autor
  soll im Rahmen der Veranstaltung versucht werden auch die Verhältnisse i
 n Bielefeld in den Blick zu nehmen und somit einen lokalen Bezug der Unter
 suchung herzustellen.
ATTACH;FMTTYPE=image/jpeg:https://www.lilabi.net/wp-content/uploads/2024/0
 4/978_3_86854_385_8_Neumann_Blumen_und_Brands_tze_0.jpg
CATEGORIES:Lesung
LOCATION:Buchladen Eulenspiegel\, Hagenbruchstr. 7 \, Bielefeld\, Deutschla
 nd
X-APPLE-STRUCTURED-LOCATION;VALUE=URI;X-ADDRESS=Hagenbruchstr. 7 \, Bielefe
 ld\, Deutschland;X-APPLE-RADIUS=100;X-TITLE=Buchladen Eulenspiegel:geo:0,0
END:VEVENT
BEGIN:VTIMEZONE
TZID:Europe/Berlin
X-LIC-LOCATION:Europe/Berlin
BEGIN:DAYLIGHT
DTSTART:20240331T030000
TZOFFSETFROM:+0100
TZOFFSETTO:+0200
TZNAME:CEST
END:DAYLIGHT
END:VTIMEZONE
END:VCALENDAR