BEGIN:VCALENDAR
VERSION:2.0
PRODID:-//wp-events-plugin.com//7.2.3.1//EN
TZID:Europe/Berlin
X-WR-TIMEZONE:Europe/Berlin
BEGIN:VEVENT
UID:5636@lilabi.net
DTSTART;TZID=Europe/Berlin:20240721T160000
DTEND;TZID=Europe/Berlin:20240721T180000
DTSTAMP:20240424T143317Z
URL:https://www.lilabi.net/events/lesung-und-diskussion-errungenschaften-a
 frikas-die-andere-seite-einer-realitaet/
SUMMARY:Lesung und Diskussion: Errungenschaften Afrikas. Die andere Seite e
 iner Realität
DESCRIPTION:Jenseits des vorherrschenden Afrika-Bildes (Katastrophen\, Kran
 kheiten\, Kriege) gilt es zur Kenntnis zu nehmen\, dass Afrika auch vor de
 r Kolonisierung eine bemerkenswerte Geschichte hatte: Entwickelte Metropol
 en\, interregionaler Handel u. v. m. Überraschende Geschichten sollen ein
  anderes Afrika-Bild zeigen\, das die Probleme nicht negiert\, aber den Ho
 rizont weiter spannt. Dr. Keith Hamaimbo liest aus seinem Buch „Errungen
 schaften Afrikas“.\n\nDie Teilnehmendenzahl vor Ort ist begrenzt.
ATTACH;FMTTYPE=image/jpeg:https://www.lilabi.net/wp-content/uploads/2024/0
 4/Keith_Hamaimbo_1000.jpeg
CATEGORIES:Austausch/Vernetzung,Buchvorstellung,Lesung,Sonstiges
LOCATION:Café Welthaus\, August-Bebel-Str. 62\, Bielefeld\, 33602\, Deutsc
 hland
X-APPLE-STRUCTURED-LOCATION;VALUE=URI;X-ADDRESS=August-Bebel-Str. 62\, Biel
 efeld\, 33602\, Deutschland;X-APPLE-RADIUS=100;X-TITLE=Café Welthaus:geo:
 0,0
END:VEVENT
BEGIN:VTIMEZONE
TZID:Europe/Berlin
X-LIC-LOCATION:Europe/Berlin
BEGIN:DAYLIGHT
DTSTART:20240331T030000
TZOFFSETFROM:+0100
TZOFFSETTO:+0200
TZNAME:CEST
END:DAYLIGHT
END:VTIMEZONE
END:VCALENDAR