BEGIN:VCALENDAR
VERSION:2.0
PRODID:-//wp-events-plugin.com//7.2.3.1//EN
TZID:Europe/Berlin
X-WR-TIMEZONE:Europe/Berlin
BEGIN:VEVENT
UID:7013@lilabi.net
DTSTART;TZID=Europe/Berlin:20260507T190000
DTEND;TZID=Europe/Berlin:20260507T210000
DTSTAMP:20260416T164042Z
URL:https://www.lilabi.net/events/lesung-und-buchpraesentation-mit-jan-bra
 uns-das-fell-der-hyaene/
SUMMARY:Lesung und Buchpräsentation mit Jan Brauns: ›Das Fell der Hyäne
 ‹
DESCRIPTION:Am Mittwoch\, 7. Mai 2026 um 19:00 Uhr stellt der Bielefelder A
 utor Jan Brauns in der Bürgerwache am Siegfriedplatz seinen Debütroman 
 ›Das Fell der Hyäne‹ vor. In einer Lesung mit Gespräch gibt er Einbl
 icke in die prekäre Welt der Protagonistin Gina\, die sich zwischen famil
 iären Zwängen und dem Wunsch nach Selbstbestimmung behaupten muss. Ein R
 oman über Schweigen\, Schuld und Solidarität.\n\nGinas Leben ist gepräg
 t von Abwesenheit und Verantwortung: Ihre Mutter ist oft nicht zuverlässi
 g und die kleinen Brüder brauchen ihre Fürsorge. Doch was verbirgt sich 
 hinter den Geschichten\, die niemand erzählt? Was hat es mit der rätselh
 aften Nordafrika-Reise ihres Stiefvaters Marko auf sich? Warum schweigt di
 e Familie über Marcos Großvater\, der im Zweiten Weltkrieg als Soldat in
  Tunesien war? Und welche Rolle spielt Frau Harbour vom Jugendamt? \n\nMit
  feinem Gespür für soziale Spannungen und historische Verstrickungen erz
 ählt Jan Brauns von einer Jugendlichen\, die sich gegen »die Verhältnis
 se« auflehnt – und dabei auf verborgene Familiengeheimnisse stößt.\n\
 nDie Lesung wird begleitet von einem kleinen Snack mit Bezug zum Roman. F
 ür Getränke ist gesorgt. Der Eintritt ist frei\; um Spenden wird gebeten
 . \n\nDer Autor\n\nJan Brauns\, Jahrgang 1958\, studierte Informatik\, Bet
 riebswirtschaft und Sozialarbeit. Als Jugend- und Familienberater sammelte
  er jahrelang Erfahrungen\, die sein literarisches Schreiben prägen. Seit
  2015 veröffentlicht er Prosa und Lyrik in Literaturmagazinen und Antholo
 gien. \n\n›Das Fell der Hyäne‹ ist sein erster Roman. Jan Brauns lebt
  in Bielefeld.
ATTACH;FMTTYPE=image/jpeg:https://www.lilabi.net/wp-content/uploads/2026/0
 4/26-05-07-Jan-Brauns-klein.png
CATEGORIES:Lesung
LOCATION:Bürgerwache Siegfriedplatz Saal\, Rolandstraße 16\, 33615 bielef
 eld\, nrw\, 33615\, Deutschland
X-APPLE-STRUCTURED-LOCATION;VALUE=URI;X-ADDRESS=Rolandstraße 16\, 33615 bi
 elefeld\, nrw\, 33615\, Deutschland;X-APPLE-RADIUS=100;X-TITLE=Bürgerwach
 e Siegfriedplatz Saal:geo:0,0
END:VEVENT
BEGIN:VTIMEZONE
TZID:Europe/Berlin
X-LIC-LOCATION:Europe/Berlin
BEGIN:DAYLIGHT
DTSTART:20260329T030000
TZOFFSETFROM:+0100
TZOFFSETTO:+0200
TZNAME:CEST
END:DAYLIGHT
END:VTIMEZONE
END:VCALENDAR