BEGIN:VCALENDAR
VERSION:2.0
PRODID:-//wp-events-plugin.com//7.2.3.1//EN
TZID:Europe/Berlin
X-WR-TIMEZONE:Europe/Berlin
BEGIN:VEVENT
UID:5631@lilabi.net
DTSTART;TZID=Europe/Berlin:20240424T180000
DTEND;TZID=Europe/Berlin:20240424T193000
DTSTAMP:20240424T143125Z
URL:https://www.lilabi.net/events/lesung-rassismus-zur-notwendigkeit-der-u
 eberwindung-eines-kolonial-ideologischen-auslaufmodels/
SUMMARY:Lesung: Rassismus – Zur Notwendigkeit der Überwindung eines kolo
 nial-ideologischen Auslaufmodels
DESCRIPTION:Kaum ein Konstrukt zur Organisation\, Verteilung und Aufrechter
 haltung von Macht und Besitzstand hat sich in dem Maße verselbstständigt
  wie der "moderne" Rassismus. Nach wie vor sind wir alle mehr oder weniger
  in unseren jeweiligen "Farbgefängnissen" gefangen. Wieso hält sich Rass
 ismus so hartnäckig? Wie werden von Rassismus potentiell betroffene Mensc
 hen in weißen Gesellschaften - konkret in Deutschland - durch seine Wirkm
 acht in ihrem alltäglichen Leben\, bei ihren gesellschaftlichen\, ökonom
 ischen oder politischen Aktivitäten\, beeinflusst? Was kann Antirassismus
 arbeit in Deutschland leisten und was nicht? Warum sollte die tatsächlich
 e Überwindung von Rassismus nicht nur als altruistischer Akt der weißen 
 Mehrheitsbevölkerung verstanden werden? Kann Rassismus überwunden werden
 \, ohne die global-ökonomischen Realitäten\, die auch maßgeblich auf ko
 loniale Umverteilungsprozesse zurückgehen\, anzutasten?\n\nSerge Palasie\
 , Fachpromotor für entwicklungspolitische Bildungsarbeit mit Fokus Afrika
 \, liest Auszüge aus seinen Beitrag "Rassismus - Zur Notwendigkeit der Ü
 berwindung eines kolonial-ideologischen Auslaufmodels" in dem Sammelbuch "
 Deutschland postkolonial? Die Gegenwart der imperialen Vergangenheit" (202
 1).\n\nIn Anschluss gibt es Möglichkeiten für einen Austausch und Diskus
 sion. Die Teilnehmendenzahl vor Ort ist begrenzt.
ATTACH;FMTTYPE=image/jpeg:https://www.lilabi.net/wp-content/uploads/2024/0
 4/Serge_Palasie_1000.jpg
CATEGORIES:Austausch/Vernetzung,Lesung
END:VEVENT
BEGIN:VTIMEZONE
TZID:Europe/Berlin
X-LIC-LOCATION:Europe/Berlin
BEGIN:DAYLIGHT
DTSTART:20240331T030000
TZOFFSETFROM:+0100
TZOFFSETTO:+0200
TZNAME:CEST
END:DAYLIGHT
END:VTIMEZONE
END:VCALENDAR